BEGIN:VCALENDAR
VERSION:2.0
PRODID:-//Lakeside Yacht Club - ECPv6.15.20//NONSGML v1.0//EN
CALSCALE:GREGORIAN
METHOD:PUBLISH
X-WR-CALNAME:Lakeside Yacht Club
X-ORIGINAL-URL:https://lakesideyachtclub.com
X-WR-CALDESC:Events for Lakeside Yacht Club
REFRESH-INTERVAL;VALUE=DURATION:PT1H
X-Robots-Tag:noindex
X-PUBLISHED-TTL:PT1H
BEGIN:VTIMEZONE
TZID:America/Halifax
BEGIN:DAYLIGHT
TZOFFSETFROM:-0400
TZOFFSETTO:-0300
TZNAME:ADT
DTSTART:20250309T060000
END:DAYLIGHT
BEGIN:STANDARD
TZOFFSETFROM:-0300
TZOFFSETTO:-0400
TZNAME:AST
DTSTART:20251102T050000
END:STANDARD
BEGIN:DAYLIGHT
TZOFFSETFROM:-0400
TZOFFSETTO:-0300
TZNAME:ADT
DTSTART:20260308T060000
END:DAYLIGHT
BEGIN:STANDARD
TZOFFSETFROM:-0300
TZOFFSETTO:-0400
TZNAME:AST
DTSTART:20261101T050000
END:STANDARD
BEGIN:DAYLIGHT
TZOFFSETFROM:-0400
TZOFFSETTO:-0300
TZNAME:ADT
DTSTART:20270314T060000
END:DAYLIGHT
BEGIN:STANDARD
TZOFFSETFROM:-0300
TZOFFSETTO:-0400
TZNAME:AST
DTSTART:20271107T050000
END:STANDARD
END:VTIMEZONE
BEGIN:VEVENT
DTSTART;TZID=America/Halifax:20260502T160000
DTEND;TZID=America/Halifax:20260502T223000
DTSTAMP:20260422T061342
CREATED:20200325T172237Z
LAST-MODIFIED:20260420T160950Z
UID:5553-1777737600-1777761000@lakesideyachtclub.com
SUMMARY:Kentucky Derby Party
DESCRIPTION:Kentucky Derby Party 4 pm\n50/50 Raffle and Mint Julip Specials start at 4 pm \n$50 gift certificate for the Best Derby Hat!\n 
URL:https://lakesideyachtclub.com/event/derby-day/
LOCATION:Lakeside Yacht Club\, Marginal Road\, Cleveland\, OH\, United States
CATEGORIES:Entertainment
ATTACH;FMTTYPE=image/jpeg:https://lakesideyachtclub.com/wp-content/uploads/2018/04/kentuckyderby.jpg
END:VEVENT
BEGIN:VEVENT
DTSTART;TZID=America/Halifax:20260505T180000
DTEND;TZID=America/Halifax:20260505T200000
DTSTAMP:20260422T061342
CREATED:20250509T113453Z
LAST-MODIFIED:20260412T165702Z
UID:8909-1778004000-1778011200@lakesideyachtclub.com
SUMMARY:Book Club
DESCRIPTION:Join us for our Monthly Book Club.\nMore on this month’s selection in the Mariner Newsletter  
URL:https://lakesideyachtclub.com/event/book-club-4/
LOCATION:Lakeside Yacht Club\, Marginal Road\, Cleveland\, OH\, United States
CATEGORIES:Club Activity
ATTACH;FMTTYPE=image/jpeg:https://lakesideyachtclub.com/wp-content/uploads/2026/04/Levi_Allen_Theo_of_Golden_S_and_S_Title_Page.jpg
END:VEVENT
BEGIN:VEVENT
DTSTART;TZID=America/Halifax:20260525T080000
DTEND;TZID=America/Halifax:20260525T170000
DTSTAMP:20260422T061342
CREATED:20260319T141230Z
LAST-MODIFIED:20260319T141230Z
UID:9598-1779696000-1779728400@lakesideyachtclub.com
SUMMARY:Memorial Day
DESCRIPTION:Watch for events to be scheduled as we near this date.
URL:https://lakesideyachtclub.com/event/memorial-day/
ATTACH;FMTTYPE=image/jpeg:https://lakesideyachtclub.com/wp-content/uploads/2019/05/MemorialDay-Party.jpg
END:VEVENT
BEGIN:VEVENT
DTSTART;TZID=America/Halifax:20260530T180000
DTEND;TZID=America/Halifax:20260530T235900
DTSTAMP:20260422T061342
CREATED:20230228T172850Z
LAST-MODIFIED:20251124T200016Z
UID:7444-1780164000-1780185540@lakesideyachtclub.com
SUMMARY:Commodore's Ball - The Roaring Twenties
DESCRIPTION:Add this to your calendar.  More details to be posted as we near the event..
URL:https://lakesideyachtclub.com/event/commodores-ball/
LOCATION:Lakeside Yacht Club\, Marginal Road\, Cleveland\, OH\, United States
CATEGORIES:Club Activity
ATTACH;FMTTYPE=image/jpeg:https://lakesideyachtclub.com/wp-content/uploads/2023/02/image-170154600997r.jpg
END:VEVENT
END:VCALENDAR