BEGIN:VCALENDAR
VERSION:2.0
PRODID:-//Lakeside Yacht Club - ECPv6.15.20//NONSGML v1.0//EN
CALSCALE:GREGORIAN
METHOD:PUBLISH
X-WR-CALNAME:Lakeside Yacht Club
X-ORIGINAL-URL:https://lakesideyachtclub.com
X-WR-CALDESC:Events for Lakeside Yacht Club
REFRESH-INTERVAL;VALUE=DURATION:PT1H
X-Robots-Tag:noindex
X-PUBLISHED-TTL:PT1H
BEGIN:VTIMEZONE
TZID:America/Halifax
BEGIN:DAYLIGHT
TZOFFSETFROM:-0400
TZOFFSETTO:-0300
TZNAME:ADT
DTSTART:20240310T060000
END:DAYLIGHT
BEGIN:STANDARD
TZOFFSETFROM:-0300
TZOFFSETTO:-0400
TZNAME:AST
DTSTART:20241103T050000
END:STANDARD
BEGIN:DAYLIGHT
TZOFFSETFROM:-0400
TZOFFSETTO:-0300
TZNAME:ADT
DTSTART:20250309T060000
END:DAYLIGHT
BEGIN:STANDARD
TZOFFSETFROM:-0300
TZOFFSETTO:-0400
TZNAME:AST
DTSTART:20251102T050000
END:STANDARD
BEGIN:DAYLIGHT
TZOFFSETFROM:-0400
TZOFFSETTO:-0300
TZNAME:ADT
DTSTART:20260308T060000
END:DAYLIGHT
BEGIN:STANDARD
TZOFFSETFROM:-0300
TZOFFSETTO:-0400
TZNAME:AST
DTSTART:20261101T050000
END:STANDARD
END:VTIMEZONE
BEGIN:VEVENT
DTSTART;VALUE=DATE:20251106
DTEND;VALUE=DATE:20251108
DTSTAMP:20260424T084307
CREATED:20251031T172059Z
LAST-MODIFIED:20251031T172622Z
UID:9270-1762390800-1762477199@lakesideyachtclub.com
SUMMARY:Water Shutoff
DESCRIPTION:Water to all the docks will be turned off today. 
URL:https://lakesideyachtclub.com/event/water-shutoff/
CATEGORIES:Seasonal
END:VEVENT
BEGIN:VEVENT
DTSTART;TZID=America/Halifax:20251108T190000
DTEND;TZID=America/Halifax:20251108T235900
DTSTAMP:20260424T084307
CREATED:20181105T000031Z
LAST-MODIFIED:20251031T172610Z
UID:4045-1762628400-1762646340@lakesideyachtclub.com
SUMMARY:Change of Watch
DESCRIPTION:Lakeside Yacht Club\nCordially invites you and your guest to the\nChange of Watch on Saturday\, November  8th\, 2025\nHors D’oeuvres – 6:15 pm\nCeremonies – 7:00 pm\nDinner Served – 7:30 pm\nLive Entertainment – 8 pm- 11:30 pm  \nFirst Course\nItalian Wedding Soup \n2nd Course choice of one item:\nPan-seared chicken\, Statler breast with chanterelle cream sauce\, dauphinoise potatoes\, asparagus\, and rainbow baby carrots.\nor\nPan-seared Chilean Sea Bass with herb velouté sauce\, dauphinoise potatoes\, asparagus\, and rainbow baby carrots.\nor\nFilet Mignon\, red wine bordelaise\, dauphinoise potatoes\, asparagus\, and rainbow baby carrots.\nor\nButternut squash ravioli\, butternut squash broth\, fried sage\, pumpkin seeds\, and red wine syrup. \n3rd Course\nDessert  \n$45.00 per person + 20% gratuity and 8% sales tax\nR.S.V.P. By November 6\, 2025\n(216) 432-3270\nCasually Formal
URL:https://lakesideyachtclub.com/event/change-of-watch/
LOCATION:Lakeside Yacht Club\, Marginal Road\, Cleveland\, OH\, United States
CATEGORIES:Club Activity
ATTACH;FMTTYPE=image/jpeg:https://lakesideyachtclub.com/wp-content/uploads/2019/11/DinnerAtTheClub.jpg
END:VEVENT
BEGIN:VEVENT
DTSTART;VALUE=DATE:20251121
DTEND;VALUE=DATE:20251123
DTSTAMP:20260424T084307
CREATED:20251119T003103Z
LAST-MODIFIED:20251119T003103Z
UID:9289-1763686800-1763773199@lakesideyachtclub.com
SUMMARY:Last Day to Order Turkey Dinners To Go
DESCRIPTION:Don’t want to spend all day in the kitchen this Thanksgiving?\nThink about ordering LYC’s Turkey dinners to go!   All orders must be placed by November 21st\nPick up is on Wednesday\, November 26th \nSliced Turkey Dinner $22 per person\, includes three sides of your choice \nA la Carte menu\nWhole Turkey $11 per pound “10lb minimum” \nSliced Turkey $9 per person \nSide Choices $5 per person\nCranberry Chutney\, Mashed Potatoes and Gravy\, Green Bean Casserole\, Sweet Potato Hash\, Stuffing\, Dinner Rolls\, and Butter. \nPies\nClassic Pumpkin $11\nClassic Sweet Potato $11
URL:https://lakesideyachtclub.com/event/last-day-to-order-turkey-dinners-to-go/
CATEGORIES:Food & Beverage
ATTACH;FMTTYPE=image/jpeg:https://lakesideyachtclub.com/wp-content/uploads/2025/10/TurkeySmall.jpg
END:VEVENT
BEGIN:VEVENT
DTSTART;VALUE=DATE:20251127
DTEND;VALUE=DATE:20251129
DTSTAMP:20260424T084307
CREATED:20230911T140136Z
LAST-MODIFIED:20251002T210725Z
UID:7927-1764205200-1764291599@lakesideyachtclub.com
SUMMARY:Thanksgiving Holiday- Club Closed
DESCRIPTION:While we all celebrate Thanksgiving with friends and family our club will be closed for the holiday.
URL:https://lakesideyachtclub.com/event/thanksgiving/
CATEGORIES:Holiday
ATTACH;FMTTYPE=image/jpeg:https://lakesideyachtclub.com/wp-content/uploads/2023/09/turkey-wreath.jpg
END:VEVENT
BEGIN:VEVENT
DTSTART;TZID=America/Halifax:20251128T180000
DTEND;TZID=America/Halifax:20251128T210000
DTSTAMP:20260424T084307
CREATED:20230308T181210Z
LAST-MODIFIED:20251119T002725Z
UID:7479-1764352800-1764363600@lakesideyachtclub.com
SUMMARY:Pasta Night
DESCRIPTION:Pasta Bar\n6:00 PM to 9:00 PM  (reservations required)   $22.00\nPasta available:\nPenne\, Angel Hair\, or Spaghetti\nChoice of sauces:\nMarinara\, Alfredo\, Garlic & Oil\, or Pesto\nChoice of toppings:\nBeef\, chicken\, meatballs\, Italian sausage\, scallops\,\nshrimp\, mussels\, mushrooms\, tomatoes\,\nartichokes\, green and red Peppers\, and lasagna.\nJust a reminder:  We no longer offer “To-Go Boxes”
URL:https://lakesideyachtclub.com/event/pasta-night-entertainment/
LOCATION:Lakeside Yacht Club\, Marginal Road\, Cleveland\, OH\, United States
CATEGORIES:Food & Beverage
ATTACH;FMTTYPE=image/jpeg:https://lakesideyachtclub.com/wp-content/uploads/2017/08/pasta.jpg
END:VEVENT
BEGIN:VEVENT
DTSTART;TZID=America/Halifax:20251129T120000
DTEND;TZID=America/Halifax:20251129T143000
DTSTAMP:20260424T084307
CREATED:20171107T213446Z
LAST-MODIFIED:20251002T204040Z
UID:3304-1764417600-1764426600@lakesideyachtclub.com
SUMMARY:Ohio State Vs. Michigan Football Game
DESCRIPTION:Watch the Ohio State Buckeyes take on the Michigan Wolverine’s \n12pm Saturday November 29th at LYC \n$10 1/4lb Chili Dogs\, served with your choice of side. \n $10 Beef and Cheese Nachos \n 
URL:https://lakesideyachtclub.com/event/ohio-state-vs-michigan-football-game/
LOCATION:Lakeside Yacht Club\, Marginal Road\, Cleveland\, OH\, United States
CATEGORIES:Entertainment
ATTACH;FMTTYPE=image/jpeg:https://lakesideyachtclub.com/wp-content/uploads/2017/11/OhioState-V-Michigan.jpg
END:VEVENT
END:VCALENDAR