BEGIN:VCALENDAR
VERSION:2.0
PRODID:-//Lakeside Yacht Club - ECPv6.15.20//NONSGML v1.0//EN
CALSCALE:GREGORIAN
METHOD:PUBLISH
X-WR-CALNAME:Lakeside Yacht Club
X-ORIGINAL-URL:https://lakesideyachtclub.com
X-WR-CALDESC:Events for Lakeside Yacht Club
REFRESH-INTERVAL;VALUE=DURATION:PT1H
X-Robots-Tag:noindex
X-PUBLISHED-TTL:PT1H
BEGIN:VTIMEZONE
TZID:America/Halifax
BEGIN:DAYLIGHT
TZOFFSETFROM:-0400
TZOFFSETTO:-0300
TZNAME:ADT
DTSTART:20240310T060000
END:DAYLIGHT
BEGIN:STANDARD
TZOFFSETFROM:-0300
TZOFFSETTO:-0400
TZNAME:AST
DTSTART:20241103T050000
END:STANDARD
BEGIN:DAYLIGHT
TZOFFSETFROM:-0400
TZOFFSETTO:-0300
TZNAME:ADT
DTSTART:20250309T060000
END:DAYLIGHT
BEGIN:STANDARD
TZOFFSETFROM:-0300
TZOFFSETTO:-0400
TZNAME:AST
DTSTART:20251102T050000
END:STANDARD
BEGIN:DAYLIGHT
TZOFFSETFROM:-0400
TZOFFSETTO:-0300
TZNAME:ADT
DTSTART:20260308T060000
END:DAYLIGHT
BEGIN:STANDARD
TZOFFSETFROM:-0300
TZOFFSETTO:-0400
TZNAME:AST
DTSTART:20261101T050000
END:STANDARD
END:VTIMEZONE
BEGIN:VEVENT
DTSTART;TZID=America/Halifax:20250901T080000
DTEND;TZID=America/Halifax:20250901T193000
DTSTAMP:20260424T115643
CREATED:20250820T145356Z
LAST-MODIFIED:20250829T133326Z
UID:9115-1756713600-1756755000@lakesideyachtclub.com
SUMMARY:Labor Day Monday Cookout & Events
DESCRIPTION:Breakfast Buffet 8:00 am – 11:30 am  \nCookout 12:00 pm – 7:30 pm \nBreakfast Buffet $13.00 \nSausage\nBacon\nBreakfast Potatoes\nScrambled Eggs\nBelgian Waffles\nBagels\nDanish\nMini Muffins\nFresh Fruit\nOmelet Station\n(Cheddar cheese\, mushrooms\, tomatoes\, onions\, peppers & diced ham) \n  \nLabor Day Weekend Cookout \n½ Roasted Chickens $17.00\nSmoked BBQ Pork Ribs\, available half $22.00 or Full $30.00\nJumbo Hot Dogs $13.00\nBurgers on Kaiser bun $16.00\nGrilled Chicken Sandwich on Kaiser bun $16.00\nVeggie Burger $16.00\nShrimp Skewer $19.00\nBeef Tenderloin Skewer $19.00 \n Side Dishes\nPasta Salad\, Potato Salad\, Corn on the Cob\, Loaded BBQ Baked Beans\, Watermelon Slices & Assorted Desserts
URL:https://lakesideyachtclub.com/event/labor-day-cookout-events/
CATEGORIES:Club Activity
ATTACH;FMTTYPE=image/jpeg:https://lakesideyachtclub.com/wp-content/uploads/2021/05/hotdogs-hamburgers-cookout.jpg
END:VEVENT
BEGIN:VEVENT
DTSTART;VALUE=DATE:20250902
DTEND;VALUE=DATE:20250904
DTSTAMP:20260424T115643
CREATED:20240408T204937Z
LAST-MODIFIED:20250820T151701Z
UID:8234-1756774800-1756861199@lakesideyachtclub.com
SUMMARY:Club Closed
DESCRIPTION:Lakeside Yacht Club is Closed Today
URL:https://lakesideyachtclub.com/event/taco-day-2/
CATEGORIES:Food & Beverage
END:VEVENT
BEGIN:VEVENT
DTSTART;TZID=America/Halifax:20250926T180000
DTEND;TZID=America/Halifax:20250926T210000
DTSTAMP:20260424T115643
CREATED:20230331T160103Z
LAST-MODIFIED:20250828T135848Z
UID:7500-1758909600-1758920400@lakesideyachtclub.com
SUMMARY:Pasta Bar
DESCRIPTION:Pasta Bar\n6:00 PM to 9:00 PM  (reservations required) \n$22.00\nPasta available:\nPenne\, Angel Hair\, or Spaghetti \nChoice of sauces:\nMarinara\, Alfredo\, Garlic & Oil\, or Pesto \nChoice of toppings:\nBeef\, chicken\, meatballs\, Italian sausage\, scallops\,\nshrimp\, mussels\, mushrooms\, tomatoes\,\nartichokes\, green and red Peppers\, and lasagna. \nJust a reminder:  We no longer offer “To-Go Boxes”
URL:https://lakesideyachtclub.com/event/pasta-bar-3/
LOCATION:Lakeside Yacht Club\, Marginal Road\, Cleveland\, OH\, United States
CATEGORIES:Food & Beverage
ATTACH;FMTTYPE=image/jpeg:https://lakesideyachtclub.com/wp-content/uploads/2017/08/pasta.jpg
END:VEVENT
END:VCALENDAR