BEGIN:VCALENDAR
VERSION:2.0
PRODID:-//Lakeside Yacht Club - ECPv6.15.20//NONSGML v1.0//EN
CALSCALE:GREGORIAN
METHOD:PUBLISH
X-WR-CALNAME:Lakeside Yacht Club
X-ORIGINAL-URL:https://lakesideyachtclub.com
X-WR-CALDESC:Events for Lakeside Yacht Club
REFRESH-INTERVAL;VALUE=DURATION:PT1H
X-Robots-Tag:noindex
X-PUBLISHED-TTL:PT1H
BEGIN:VTIMEZONE
TZID:America/Halifax
BEGIN:DAYLIGHT
TZOFFSETFROM:-0400
TZOFFSETTO:-0300
TZNAME:ADT
DTSTART:20230312T060000
END:DAYLIGHT
BEGIN:STANDARD
TZOFFSETFROM:-0300
TZOFFSETTO:-0400
TZNAME:AST
DTSTART:20231105T050000
END:STANDARD
BEGIN:DAYLIGHT
TZOFFSETFROM:-0400
TZOFFSETTO:-0300
TZNAME:ADT
DTSTART:20240310T060000
END:DAYLIGHT
BEGIN:STANDARD
TZOFFSETFROM:-0300
TZOFFSETTO:-0400
TZNAME:AST
DTSTART:20241103T050000
END:STANDARD
BEGIN:DAYLIGHT
TZOFFSETFROM:-0400
TZOFFSETTO:-0300
TZNAME:ADT
DTSTART:20250309T060000
END:DAYLIGHT
BEGIN:STANDARD
TZOFFSETFROM:-0300
TZOFFSETTO:-0400
TZNAME:AST
DTSTART:20251102T050000
END:STANDARD
END:VTIMEZONE
BEGIN:VEVENT
DTSTART;TZID=America/Halifax:20240720T110000
DTEND;TZID=America/Halifax:20240720T130000
DTSTAMP:20260425T110148
CREATED:20220714T013549Z
LAST-MODIFIED:20240711T135642Z
UID:7019-1721473200-1721480400@lakesideyachtclub.com
SUMMARY:Kid's Fishing Tournament
DESCRIPTION:LYC’S KIDS FISHING TOURNAMENT\n(Children 12 years & Younger)\nSaturday – July 20\, 2024   10:00 am – 12:00 pm\nAll Power & Sail Boaters Children and Grandchildren are welcome!\nTrophies will be given to the biggest fish\, smallest fish\, and most caught!\nPlease obtain sign-up forms at the Office \n(forms  were emailed out to members on 7/2/2024) \n  \n  \n 
URL:https://lakesideyachtclub.com/event/kids-fishing-tournament-2/
LOCATION:Lakeside Yacht Club\, 4851 Marginal Road\, Cleveland\, OH\, United States
CATEGORIES:Club Activity
ATTACH;FMTTYPE=image/jpeg:https://lakesideyachtclub.com/wp-content/uploads/2022/07/kids-fishing2023.jpg
END:VEVENT
BEGIN:VEVENT
DTSTART;TZID=America/Halifax:20240720T130000
DTEND;TZID=America/Halifax:20240720T170000
DTSTAMP:20260425T110148
CREATED:20240711T141625Z
LAST-MODIFIED:20240711T141839Z
UID:8388-1721480400-1721494800@lakesideyachtclub.com
SUMMARY:Dunk Tank Event to Raise Funds for Breast Cancer Kits
DESCRIPTION:Our last fundraising event for the Breast Cancer Kits is July 20th.  Join us and load up on Ammunition for only $5 per ball. \nYour chance to Dunk Larry Orlowski\, Jamie Bevins\, Chris Hogle\, Mark Garofoli\, and Julie Kubik.  We’re still looking for more volunteers to cool off in the tank and raise funds for a worthy cause.   Sign up with Larry.
URL:https://lakesideyachtclub.com/event/dunk-tank-event-to-raise-funds-for-breast-cancer-kits/
CATEGORIES:Entertainment
ATTACH;FMTTYPE=image/jpeg:https://lakesideyachtclub.com/wp-content/uploads/2024/07/dunktank.jpg
END:VEVENT
BEGIN:VEVENT
DTSTART;TZID=America/Halifax:20240721T130000
DTEND;TZID=America/Halifax:20240721T170000
DTSTAMP:20260425T110148
CREATED:20240711T142234Z
LAST-MODIFIED:20240711T142234Z
UID:8391-1721566800-1721581200@lakesideyachtclub.com
SUMMARY:Alex Bevan Entertaining
DESCRIPTION:Alex Bevan will be appearing at LYC and entertaining members and guests.
URL:https://lakesideyachtclub.com/event/alex-bevan-entertaining/
ATTACH;FMTTYPE=image/webp:https://lakesideyachtclub.com/wp-content/uploads/2024/07/Alex-Bevan.webp
END:VEVENT
BEGIN:VEVENT
DTSTART;VALUE=DATE:20240722
DTEND;VALUE=DATE:20240724
DTSTAMP:20260425T110148
CREATED:20230308T173239Z
LAST-MODIFIED:20240711T142521Z
UID:7471-1721610000-1721696399@lakesideyachtclub.com
SUMMARY:Summer Sailing Camp
DESCRIPTION:Sailing Camp for Children and Grandchildren. \nMore Details Here 
URL:https://lakesideyachtclub.com/event/summer-sailing-camp/
LOCATION:Lakeside Yacht Club\, Marginal Road\, Cleveland\, OH\, United States
CATEGORIES:Club Activity
ATTACH;FMTTYPE=image/jpeg:https://lakesideyachtclub.com/wp-content/uploads/2019/05/sailing-camp.jpg
END:VEVENT
BEGIN:VEVENT
DTSTART;TZID=America/Halifax:20240727T200000
DTEND;TZID=America/Halifax:20240727T230000
DTSTAMP:20260425T110148
CREATED:20240711T143234Z
LAST-MODIFIED:20240711T143234Z
UID:8398-1722110400-1722121200@lakesideyachtclub.com
SUMMARY:The King Pins Band
DESCRIPTION:The King Pins Band will be playing at the Lakeside Yacht Club.  Popular hits and Caribbean island music too.
URL:https://lakesideyachtclub.com/event/the-king-pins-band/
CATEGORIES:Entertainment
ATTACH;FMTTYPE=image/jpeg:https://lakesideyachtclub.com/wp-content/uploads/2024/07/KingPinsBand.jpg
END:VEVENT
BEGIN:VEVENT
DTSTART;TZID=America/Halifax:20240729T130000
DTEND;TZID=America/Halifax:20240729T170000
DTSTAMP:20260425T110148
CREATED:20190408T190748Z
LAST-MODIFIED:20240711T143630Z
UID:4730-1722258000-1722272400@lakesideyachtclub.com
SUMMARY:DJ Ray
DESCRIPTION:Party with DJ Ray and enjoy a day in the sun.
URL:https://lakesideyachtclub.com/event/dj-danny/
LOCATION:Lakeside Yacht Club\, Marginal Road\, Cleveland\, OH\, United States
CATEGORIES:Entertainment
END:VEVENT
END:VCALENDAR