BEGIN:VCALENDAR
VERSION:2.0
PRODID:-//Lakeside Yacht Club - ECPv6.15.20//NONSGML v1.0//EN
CALSCALE:GREGORIAN
METHOD:PUBLISH
X-WR-CALNAME:Lakeside Yacht Club
X-ORIGINAL-URL:https://lakesideyachtclub.com
X-WR-CALDESC:Events for Lakeside Yacht Club
REFRESH-INTERVAL;VALUE=DURATION:PT1H
X-Robots-Tag:noindex
X-PUBLISHED-TTL:PT1H
BEGIN:VTIMEZONE
TZID:America/Halifax
BEGIN:DAYLIGHT
TZOFFSETFROM:-0400
TZOFFSETTO:-0300
TZNAME:ADT
DTSTART:20210314T060000
END:DAYLIGHT
BEGIN:STANDARD
TZOFFSETFROM:-0300
TZOFFSETTO:-0400
TZNAME:AST
DTSTART:20211107T050000
END:STANDARD
BEGIN:DAYLIGHT
TZOFFSETFROM:-0400
TZOFFSETTO:-0300
TZNAME:ADT
DTSTART:20220313T060000
END:DAYLIGHT
BEGIN:STANDARD
TZOFFSETFROM:-0300
TZOFFSETTO:-0400
TZNAME:AST
DTSTART:20221106T050000
END:STANDARD
BEGIN:DAYLIGHT
TZOFFSETFROM:-0400
TZOFFSETTO:-0300
TZNAME:ADT
DTSTART:20230312T060000
END:DAYLIGHT
BEGIN:STANDARD
TZOFFSETFROM:-0300
TZOFFSETTO:-0400
TZNAME:AST
DTSTART:20231105T050000
END:STANDARD
BEGIN:DAYLIGHT
TZOFFSETFROM:-0400
TZOFFSETTO:-0300
TZNAME:ADT
DTSTART:20240310T060000
END:DAYLIGHT
BEGIN:STANDARD
TZOFFSETFROM:-0300
TZOFFSETTO:-0400
TZNAME:AST
DTSTART:20241103T050000
END:STANDARD
END:VTIMEZONE
BEGIN:VEVENT
DTSTART;TZID=America/Halifax:20230826T200000
DTEND;TZID=America/Halifax:20230826T230000
DTSTAMP:20260420T114318
CREATED:20230626T200542Z
LAST-MODIFIED:20230626T200542Z
UID:7777-1693080000-1693090800@lakesideyachtclub.com
SUMMARY:Gary Coleman Entertainment
DESCRIPTION:
URL:https://lakesideyachtclub.com/event/gary-coleman-entertainment/
LOCATION:Lakeside Yacht Club\, Marginal Road\, Cleveland\, OH\, United States
CATEGORIES:Entertainment
ATTACH;FMTTYPE=image/jpeg:https://lakesideyachtclub.com/wp-content/uploads/2023/06/band-on-stage-2.jpg
END:VEVENT
BEGIN:VEVENT
DTSTART;TZID=America/Halifax:20230820T130000
DTEND;TZID=America/Halifax:20230820T160000
DTSTAMP:20260420T114318
CREATED:20230626T200219Z
LAST-MODIFIED:20230626T200219Z
UID:7775-1692536400-1692547200@lakesideyachtclub.com
SUMMARY:DJ Michelle
DESCRIPTION:Spinning your favorite hits.
URL:https://lakesideyachtclub.com/event/dj-michelle/
LOCATION:Lakeside Yacht Club\, Marginal Road\, Cleveland\, OH\, United States
CATEGORIES:Entertainment
ATTACH;FMTTYPE=image/jpeg:https://lakesideyachtclub.com/wp-content/uploads/2023/06/disc-jockey-and-audience-2.jpg
END:VEVENT
BEGIN:VEVENT
DTSTART;TZID=America/Halifax:20230819T200000
DTEND;TZID=America/Halifax:20230819T230000
DTSTAMP:20260420T114318
CREATED:20220604T141003Z
LAST-MODIFIED:20230626T195937Z
UID:6892-1692475200-1692486000@lakesideyachtclub.com
SUMMARY:Eastwind Band
DESCRIPTION:AUTHENTIC CLASSIC ROCK FEATURING THE MUSIC OF THE DOOBIE BROTHERS\, BEATLES\, DAVID BOWIE\, EAGLES\, GRAND FUNK RAILROAD & MORE
URL:https://lakesideyachtclub.com/event/eastwind-band/
LOCATION:Lakeside Yacht Club\, 4851 Marginal Road\, Cleveland\, OH\, United States
CATEGORIES:Entertainment
ATTACH;FMTTYPE=image/jpeg:https://lakesideyachtclub.com/wp-content/uploads/2022/06/west-wind-charlie-band.jpg
END:VEVENT
BEGIN:VEVENT
DTSTART;TZID=America/Halifax:20230813T120000
DTEND;TZID=America/Halifax:20230813T150000
DTSTAMP:20260420T114318
CREATED:20230626T195217Z
LAST-MODIFIED:20230812T205356Z
UID:7770-1691928000-1691938800@lakesideyachtclub.com
SUMMARY:LYC Annual Scavenger Hunt
DESCRIPTION:PLEASE NOTE THE UPDATED RULES -Date Change \nRules and Regulations:\n\nTeams of up to 6ppl –  Teams can consist of more than 6 people but the penalty for teams over 6 will be large!\nEvery Boat must have a Digital Camera or cell phone\nEvery Boat must check in at the LYC Patio at 12:45 pm\nEveryone must report back to the LYC Deck when finished\nOne point per minute will be deducted from your overall score for every minute past the 3 pm deadline.\nTo participate in this event all boats must register at the LYC OFFICE no later than Thursday\, August 13th by 10 am.\nAll members and guests are encouraged to participate in this event. There will be numerous destinations each with different tasks and point values. The list will be available upon sign-in.\n\nTeams are encouraged to participate.  \nThere will be special prizes for the winning team\, and we need your support!
URL:https://lakesideyachtclub.com/event/scavenger-hunt-2/
LOCATION:Lakeside Yacht Club\, Marginal Road\, Cleveland\, OH\, United States
CATEGORIES:Club Activity
ATTACH;FMTTYPE=image/jpeg:https://lakesideyachtclub.com/wp-content/uploads/2021/08/scavengerhunt.jpg
END:VEVENT
BEGIN:VEVENT
DTSTART;TZID=America/Halifax:20230806T130000
DTEND;TZID=America/Halifax:20230806T160000
DTSTAMP:20260420T114318
CREATED:20230626T194716Z
LAST-MODIFIED:20230626T194716Z
UID:7765-1691326800-1691337600@lakesideyachtclub.com
SUMMARY:D J Larry
DESCRIPTION:DJ Larry by the pool
URL:https://lakesideyachtclub.com/event/d-j-larry/
LOCATION:OH
CATEGORIES:Entertainment
ATTACH;FMTTYPE=image/jpeg:https://lakesideyachtclub.com/wp-content/uploads/2023/06/disc-jockey-and-audience-2.jpg
END:VEVENT
BEGIN:VEVENT
DTSTART;TZID=America/Halifax:20230805T200000
DTEND;TZID=America/Halifax:20230805T230000
DTSTAMP:20260420T114318
CREATED:20230626T194305Z
LAST-MODIFIED:20230626T194305Z
UID:7762-1691265600-1691276400@lakesideyachtclub.com
SUMMARY:BuckShot Country Band
DESCRIPTION:Enjoy the music from the Buckshot “Country Band.”
URL:https://lakesideyachtclub.com/event/buckshot-country-band/
LOCATION:Lakeside Yacht Club\, Marginal Road\, Cleveland\, OH\, United States
CATEGORIES:Entertainment
ATTACH;FMTTYPE=image/jpeg:https://lakesideyachtclub.com/wp-content/uploads/2023/06/band-on-stage-2.jpg
END:VEVENT
BEGIN:VEVENT
DTSTART;TZID=America/Halifax:20230721T200000
DTEND;TZID=America/Halifax:20230721T233000
DTSTAMP:20260420T114318
CREATED:20230616T143012Z
LAST-MODIFIED:20230616T143012Z
UID:7747-1689969600-1689982200@lakesideyachtclub.com
SUMMARY:Fireside Band Entertainment
DESCRIPTION:Details coming soon.
URL:https://lakesideyachtclub.com/event/fireside-band-entertainment/
LOCATION:Lakeside Yacht Club\, Marginal Road\, Cleveland\, OH\, United States
CATEGORIES:Entertainment
END:VEVENT
BEGIN:VEVENT
DTSTART;TZID=America/Halifax:20230708T200000
DTEND;TZID=America/Halifax:20230708T230000
DTSTAMP:20260420T114318
CREATED:20230616T141947Z
LAST-MODIFIED:20230616T141947Z
UID:7738-1688846400-1688857200@lakesideyachtclub.com
SUMMARY:Tarp Band Entertainment
DESCRIPTION:Enjoy the sounds of the Tarp Band
URL:https://lakesideyachtclub.com/event/tarp-band-entertainment/
LOCATION:Lakeside Yacht Club\, Marginal Road\, Cleveland\, OH\, United States
CATEGORIES:Entertainment
END:VEVENT
BEGIN:VEVENT
DTSTART;TZID=America/Halifax:20230703T200000
DTEND;TZID=America/Halifax:20230704T000000
DTSTAMP:20260420T114318
CREATED:20220611T132816Z
LAST-MODIFIED:20230630T154445Z
UID:6914-1688414400-1688428800@lakesideyachtclub.com
SUMMARY:Club Opens at 3 PM- Armstrong Bearcat Entertainment at 8PM
DESCRIPTION:On July 3rd the club will open at 3 PM  \nArmstrong Bearcat will entertain from 8 PM to 11 PM
URL:https://lakesideyachtclub.com/event/july-special-bloody-marys-3/
LOCATION:Lakeside Yacht Club\, 4851 Marginal Road\, Cleveland\, OH\, United States
CATEGORIES:Entertainment
ATTACH;FMTTYPE=image/jpeg:https://lakesideyachtclub.com/wp-content/uploads/2020/07/bearcat18.jpg
END:VEVENT
BEGIN:VEVENT
DTSTART;TZID=America/Halifax:20230624T200000
DTEND;TZID=America/Halifax:20230624T230000
DTSTAMP:20260420T114318
CREATED:20230522T141145Z
LAST-MODIFIED:20230522T141221Z
UID:7601-1687636800-1687647600@lakesideyachtclub.com
SUMMARY:Entertainment- Monica Robbins & The Ninja Cowboys
DESCRIPTION:The Ninja Cowboys came together to meet the rising demand for contemporary country music. You’ll hear your everyday favorites along with the classic anthems and standards that’ll make you break out line dancing.\nCome out and see how rockin’ country music can be!
URL:https://lakesideyachtclub.com/event/entertainment-monica-robbins-the-ninja-cowboys/
LOCATION:Lakeside Yacht Club\, Marginal Road\, Cleveland\, OH\, United States
CATEGORIES:Entertainment
ATTACH;FMTTYPE=image/webp:https://lakesideyachtclub.com/wp-content/uploads/2023/05/ninjacowboys.webp
END:VEVENT
BEGIN:VEVENT
DTSTART;TZID=America/Halifax:20230617T200000
DTEND;TZID=America/Halifax:20230617T235900
DTSTAMP:20260420T114318
CREATED:20230520T165451Z
LAST-MODIFIED:20230520T165451Z
UID:7591-1687032000-1687046340@lakesideyachtclub.com
SUMMARY:Entertainment- Masterpiece Motown and More
DESCRIPTION:Masterpiece is an 8-piece fun/party band featuring covers of popular hits from Motown\, Disco/Funk/R&B\, and Pop. They are accomplished entertainers/musicians with combined experience totaling well over 100 years!
URL:https://lakesideyachtclub.com/event/entertainment-masterpiece-motown-and-more/
LOCATION:Lakeside Yacht Club\, Marginal Road\, Cleveland\, OH\, United States
CATEGORIES:Entertainment
ATTACH;FMTTYPE=image/webp:https://lakesideyachtclub.com/wp-content/uploads/2023/05/masterpiece.webp
END:VEVENT
BEGIN:VEVENT
DTSTART;TZID=America/Halifax:20230610T203000
DTEND;TZID=America/Halifax:20230610T233000
DTSTAMP:20260420T114318
CREATED:20230520T165049Z
LAST-MODIFIED:20230520T165049Z
UID:7589-1686429000-1686439800@lakesideyachtclub.com
SUMMARY:Entertainment- Rick O'Shay
DESCRIPTION:Music of the 60’s\, 70’s and 80’s with Rick O’Shay
URL:https://lakesideyachtclub.com/event/entertainment-rick-oshay/
LOCATION:Lakeside Yacht Club\, Marginal Road\, Cleveland\, OH\, United States
CATEGORIES:Entertainment
END:VEVENT
BEGIN:VEVENT
DTSTART;TZID=America/Halifax:20230609T200000
DTEND;TZID=America/Halifax:20230609T230000
DTSTAMP:20260420T114318
CREATED:20230520T164710Z
LAST-MODIFIED:20230520T164710Z
UID:7586-1686340800-1686351600@lakesideyachtclub.com
SUMMARY:Entertainment- Erie Cats
DESCRIPTION:Enjoy the music of the Erie Cats featuring dance & rock music from the ’80s\, ’90s\, and 2000s to current contemporary rock!
URL:https://lakesideyachtclub.com/event/entertainment-erie-cats/
LOCATION:Lakeside Yacht Club\, Marginal Road\, Cleveland\, OH\, United States
CATEGORIES:Entertainment
ATTACH;FMTTYPE=image/jpeg:https://lakesideyachtclub.com/wp-content/uploads/2023/05/erie-cats.jpg
END:VEVENT
BEGIN:VEVENT
DTSTART;TZID=America/Halifax:20230603T200000
DTEND;TZID=America/Halifax:20230603T230000
DTSTAMP:20260420T114318
CREATED:20230520T164139Z
LAST-MODIFIED:20230520T164139Z
UID:7581-1685822400-1685833200@lakesideyachtclub.com
SUMMARY:Still Standing Entertainment
DESCRIPTION:Enjoy\, listen\, and dance to the music of these four veterans of the Cleveland music scene. 
URL:https://lakesideyachtclub.com/event/still-standing-entertainment/
LOCATION:Lakeside Yacht Club\, Marginal Road\, Cleveland\, OH\, United States
CATEGORIES:Entertainment
ATTACH;FMTTYPE=image/jpeg:https://lakesideyachtclub.com/wp-content/uploads/2023/05/StillStanding.jpg
END:VEVENT
BEGIN:VEVENT
DTSTART;TZID=America/Halifax:20230531T180000
DTEND;TZID=America/Halifax:20230531T220000
DTSTAMP:20260420T114318
CREATED:20230308T182145Z
LAST-MODIFIED:20230308T185335Z
UID:7490-1685556000-1685570400@lakesideyachtclub.com
SUMMARY:Night Sailing
DESCRIPTION:Join us for an evening sail in Lake Erie
URL:https://lakesideyachtclub.com/event/night-sailing-2/
LOCATION:Lakeside Yacht Club\, Marginal Road\, Cleveland\, OH\, United States
CATEGORIES:Club Activity
END:VEVENT
BEGIN:VEVENT
DTSTART;TZID=America/Halifax:20230524T180000
DTEND;TZID=America/Halifax:20230524T210000
DTSTAMP:20260420T114318
CREATED:20230308T180851Z
LAST-MODIFIED:20230308T180909Z
UID:7475-1684951200-1684962000@lakesideyachtclub.com
SUMMARY:Night Sailing
DESCRIPTION:Join us for an evening sail.  Watch for more details soon. \n 
URL:https://lakesideyachtclub.com/event/night-sailing/
LOCATION:Lakeside Yacht Club\, Marginal Road\, Cleveland\, OH\, United States
CATEGORIES:Club Activity
END:VEVENT
BEGIN:VEVENT
DTSTART;TZID=America/Halifax:20230304T193000
DTEND;TZID=America/Halifax:20230304T210000
DTSTAMP:20260420T114318
CREATED:20230205T195934Z
LAST-MODIFIED:20230205T195934Z
UID:7329-1677958200-1677963600@lakesideyachtclub.com
SUMMARY:Family Feud is Back at LYC
DESCRIPTION:Teams of 5 and up to 10\n7:30pm\nPlease RSVP as soon as possible so we can also form teams of multiple members if needed! You don’t need a team of 5 or more to participate. We can combine center dock people as an example or power boaters vs. sail boaters\, new members versus long-term members\, etc.\nI guess the point I’m only to get across is participation! Even if you only want to sit in the crowd and watch!\nRSVP to Officemanager@lakesideyacht.com\nMore details to follow!
URL:https://lakesideyachtclub.com/event/family-feud-is-back-at-lyc/
LOCATION:Lakeside Yacht Club\, Marginal Road\, Cleveland\, OH\, United States
CATEGORIES:Entertainment
ATTACH;FMTTYPE=image/jpeg:https://lakesideyachtclub.com/wp-content/uploads/2020/02/familyfeud.jpg
END:VEVENT
BEGIN:VEVENT
DTSTART;TZID=America/Halifax:20230225T200000
DTEND;TZID=America/Halifax:20230225T213000
DTSTAMP:20260420T114318
CREATED:20230129T213207Z
LAST-MODIFIED:20230129T213207Z
UID:7294-1677355200-1677360600@lakesideyachtclub.com
SUMMARY:Euchre Tournament
DESCRIPTION:Lakeside Yacht Club’s first-ever Euchre tournament!\nSaturday\, February 25th\, 8 pm please\nrsvp to officemanager@lakesideyachtclub.com \nif you would like to participate. Teams of 2. Single payers will be paired up with somebody.
URL:https://lakesideyachtclub.com/event/euchre-tournament/
LOCATION:Lakeside Yacht Club\, Marginal Road\, Cleveland\, OH\, United States
CATEGORIES:Club Activity
ATTACH;FMTTYPE=image/jpeg:https://lakesideyachtclub.com/wp-content/uploads/2023/01/euchre-lakeside.jpg
END:VEVENT
BEGIN:VEVENT
DTSTART;TZID=America/Halifax:20230218T193000
DTEND;TZID=America/Halifax:20230218T210000
DTSTAMP:20260420T114318
CREATED:20230205T191256Z
LAST-MODIFIED:20230205T194802Z
UID:7312-1676748600-1676754000@lakesideyachtclub.com
SUMMARY:Comedy Night with Thom Fisher at LYC
DESCRIPTION:Thom Fisher\nHighly polished\, versatile and talented corporate speaker and comic-impressionist with material ideally suited for mature and business audiences. I have performed for corporate groups such as Aramark and local chambers of commerce in addition to comic audiences in Cleveland\, Atlantic City\, Philadelphia\, Las Vegas and Laughlin\, NV. I present a professional appearance and deliver smiles and laughter with every performance! \nPerformance highlights include Las Vegas Strip casinos Planet Hollywood\, Bally’s\, Palace Station\, Orleans and Treasure Island. I was a finalist in the Atlantic City Tropicana Casino’s Johnny Carson Comedian Contest. I have a repertoire of more than 20 celebrity voice impressions!  “It’s not often in entertainment and comedy that you can find a standup comedian with the gift of doing impersonations. But with Thom Fisher\, you have that person. \nReservations Required!
URL:https://lakesideyachtclub.com/event/comedy-night-with-thom-fisher-at-lyc/
LOCATION:Lakeside Yacht Club\, Marginal Road\, Cleveland\, OH\, United States
CATEGORIES:Entertainment
ATTACH;FMTTYPE=image/jpeg:https://lakesideyachtclub.com/wp-content/uploads/2021/11/comedynight.jpg
END:VEVENT
BEGIN:VEVENT
DTSTART;VALUE=DATE:20221216
DTEND;VALUE=DATE:20230118
DTSTAMP:20260420T114318
CREATED:20221102T162227Z
LAST-MODIFIED:20221102T162315Z
UID:7173-1671152400-1673917199@lakesideyachtclub.com
SUMMARY:Winter Club Shutdown
DESCRIPTION:Lakeside Yacht Club will be closed from December 16th thru Tuesday\, January 17th
URL:https://lakesideyachtclub.com/event/winter-club-shutdown/
LOCATION:OH
END:VEVENT
BEGIN:VEVENT
DTSTART;TZID=America/Halifax:20220806T190000
DTEND;TZID=America/Halifax:20220806T230000
DTSTAMP:20260420T114318
CREATED:20210731T164204Z
LAST-MODIFIED:20220805T170922Z
UID:6463-1659812400-1659826800@lakesideyachtclub.com
SUMMARY:Blame Willy
DESCRIPTION:This Saturday 7-11pm on the patio Blame Willy!\nHigh energy cover band playing your favorites from the ’70s\, ’80s\, ’90s\, and beyond.
URL:https://lakesideyachtclub.com/event/billy-morris-and-the-sunset-band/
LOCATION:Lakeside Yacht Club\, Marginal Road\, Cleveland\, OH\, United States
CATEGORIES:Entertainment
END:VEVENT
BEGIN:VEVENT
DTSTART;TZID=America/Halifax:20220709T100000
DTEND;TZID=America/Halifax:20220709T130000
DTSTAMP:20260420T114318
CREATED:20220611T132421Z
LAST-MODIFIED:20220611T132421Z
UID:6908-1657360800-1657371600@lakesideyachtclub.com
SUMMARY:July Special - Bottomess Bloody Mary's
DESCRIPTION:Every Saturday in July bottomless Bloody Mary’s 10am-1pm
URL:https://lakesideyachtclub.com/event/july-special-bottomess-bloody-marys-2/
LOCATION:OH
CATEGORIES:Food & Beverage
ATTACH;FMTTYPE=image/jpeg:https://lakesideyachtclub.com/wp-content/uploads/2017/08/classic-bloody-mary-290x290.jpg
END:VEVENT
END:VCALENDAR