BEGIN:VCALENDAR
VERSION:2.0
PRODID:-//Lakeside Yacht Club - ECPv6.15.20//NONSGML v1.0//EN
CALSCALE:GREGORIAN
METHOD:PUBLISH
X-WR-CALNAME:Lakeside Yacht Club
X-ORIGINAL-URL:https://lakesideyachtclub.com
X-WR-CALDESC:Events for Lakeside Yacht Club
REFRESH-INTERVAL;VALUE=DURATION:PT1H
X-Robots-Tag:noindex
X-PUBLISHED-TTL:PT1H
BEGIN:VTIMEZONE
TZID:America/Halifax
BEGIN:DAYLIGHT
TZOFFSETFROM:-0400
TZOFFSETTO:-0300
TZNAME:ADT
DTSTART:20250309T060000
END:DAYLIGHT
BEGIN:STANDARD
TZOFFSETFROM:-0300
TZOFFSETTO:-0400
TZNAME:AST
DTSTART:20251102T050000
END:STANDARD
BEGIN:DAYLIGHT
TZOFFSETFROM:-0400
TZOFFSETTO:-0300
TZNAME:ADT
DTSTART:20260308T060000
END:DAYLIGHT
BEGIN:STANDARD
TZOFFSETFROM:-0300
TZOFFSETTO:-0400
TZNAME:AST
DTSTART:20261101T050000
END:STANDARD
BEGIN:DAYLIGHT
TZOFFSETFROM:-0400
TZOFFSETTO:-0300
TZNAME:ADT
DTSTART:20270314T060000
END:DAYLIGHT
BEGIN:STANDARD
TZOFFSETFROM:-0300
TZOFFSETTO:-0400
TZNAME:AST
DTSTART:20271107T050000
END:STANDARD
END:VTIMEZONE
BEGIN:VEVENT
DTSTART;TZID=America/Halifax:20260502T160000
DTEND;TZID=America/Halifax:20260502T223000
DTSTAMP:20260425T131209
CREATED:20200325T172237Z
LAST-MODIFIED:20260420T160950Z
UID:5553-1777737600-1777761000@lakesideyachtclub.com
SUMMARY:Kentucky Derby Party
DESCRIPTION:Kentucky Derby Party 4 pm\n50/50 Raffle and Mint Julip Specials start at 4 pm \n$50 gift certificate for the Best Derby Hat!\n 
URL:https://lakesideyachtclub.com/event/derby-day/
LOCATION:Lakeside Yacht Club\, Marginal Road\, Cleveland\, OH\, United States
CATEGORIES:Entertainment
ATTACH;FMTTYPE=image/jpeg:https://lakesideyachtclub.com/wp-content/uploads/2018/04/kentuckyderby.jpg
END:VEVENT
BEGIN:VEVENT
DTSTART;TZID=America/Halifax:20260505T170000
DTEND;TZID=America/Halifax:20260505T210000
DTSTAMP:20260425T131209
CREATED:20240711T141057Z
LAST-MODIFIED:20260423T143000Z
UID:8386-1778000400-1778014800@lakesideyachtclub.com
SUMMARY:Taco Day
DESCRIPTION:Every Tuesday from 5:00 to 9:00 PM\n$1.50 Beef or Chicken Tacos\, hard or soft shell\nA Chef’s Choice Taco is also available.  
URL:https://lakesideyachtclub.com/event/taco-day-3/
LOCATION:OH
CATEGORIES:Food & Beverage
ATTACH;FMTTYPE=image/jpeg:https://lakesideyachtclub.com/wp-content/uploads/2013/03/Tacos.jpg
END:VEVENT
BEGIN:VEVENT
DTSTART;TZID=America/Halifax:20260505T180000
DTEND;TZID=America/Halifax:20260505T200000
DTSTAMP:20260425T131209
CREATED:20250509T113453Z
LAST-MODIFIED:20260412T165702Z
UID:8909-1778004000-1778011200@lakesideyachtclub.com
SUMMARY:Book Club
DESCRIPTION:Join us for our Monthly Book Club.\nMore on this month’s selection in the Mariner Newsletter  
URL:https://lakesideyachtclub.com/event/book-club-4/
LOCATION:Lakeside Yacht Club\, Marginal Road\, Cleveland\, OH\, United States
CATEGORIES:Club Activity
ATTACH;FMTTYPE=image/jpeg:https://lakesideyachtclub.com/wp-content/uploads/2026/04/Levi_Allen_Theo_of_Golden_S_and_S_Title_Page.jpg
END:VEVENT
BEGIN:VEVENT
DTSTART;TZID=America/Halifax:20260510T100000
DTEND;TZID=America/Halifax:20260510T150000
DTSTAMP:20260425T131209
CREATED:20250402T153139Z
LAST-MODIFIED:20260424T121349Z
UID:8274-1778407200-1778425200@lakesideyachtclub.com
SUMMARY:Mother's Day Buffet
DESCRIPTION:First Seating 10 am -12 pm\nSecond Seating  12:30-2:30 pm\nAdults $40 / Kids 10 and under $15\nPlease RSVP by May 7\, 2026\nCheddar Cheese Breakfast Potatoes-size\nApple-wood Smoked Bacon\nSausage\nScrambled Eggs\nFrench Toast with Berry Syrup\nFruit Tray\nMuffins and Danish\nBagels and Cream Cheese\nOmelet Station\nPotatoes Au Gratin\nRoasted Broccoli and Peppers\nBaked Whitefish in lemon butter sauce\nHoney Glazed Ham\nShaved Flank Steak with onions and Mushrooms\nCarved Herb Roasted Turkey\nAssorted Desserts
URL:https://lakesideyachtclub.com/event/2025-mothers-day-buffet/
LOCATION:OH
CATEGORIES:Food & Beverage
ATTACH;FMTTYPE=image/jpeg:https://lakesideyachtclub.com/wp-content/uploads/2019/04/Mothers-Day-1807838.jpg
END:VEVENT
BEGIN:VEVENT
DTSTART;TZID=America/Halifax:20260512T170000
DTEND;TZID=America/Halifax:20260512T210000
DTSTAMP:20260425T131209
CREATED:20230409T194607Z
LAST-MODIFIED:20260423T143028Z
UID:7322-1778605200-1778619600@lakesideyachtclub.com
SUMMARY:Taco Day
DESCRIPTION:Every Tuesday from 5:00 to 9:00 PM\n$1.50 Beef or Chicken Tacos\, hard or soft shell\nA Chef’s Choice Taco is also available.  
URL:https://lakesideyachtclub.com/event/taco-tuesday-3/
LOCATION:Lakeside Yacht Club\, Marginal Road\, Cleveland\, OH\, United States
CATEGORIES:Food & Beverage
ATTACH;FMTTYPE=image/jpeg:https://lakesideyachtclub.com/wp-content/uploads/2013/03/Tacos.jpg
END:VEVENT
BEGIN:VEVENT
DTSTART;TZID=America/Halifax:20260519T170000
DTEND;TZID=America/Halifax:20260519T210000
DTSTAMP:20260425T131209
CREATED:20230228T173323Z
LAST-MODIFIED:20260423T143335Z
UID:7448-1779210000-1779224400@lakesideyachtclub.com
SUMMARY:Taco Day
DESCRIPTION:Every Tuesday from 5:00 to 9:00 PM\n$1.50 Beef or Chicken Tacos\, hard or soft shell\nA Chef’s Choice Taco is also available.  
URL:https://lakesideyachtclub.com/event/taco-tuesday-7/
LOCATION:Lakeside Yacht Club\, Marginal Road\, Cleveland\, OH\, United States
CATEGORIES:Food & Beverage
ATTACH;FMTTYPE=image/jpeg:https://lakesideyachtclub.com/wp-content/uploads/2017/08/taco.jpg
END:VEVENT
BEGIN:VEVENT
DTSTART;TZID=America/Halifax:20260525T080000
DTEND;TZID=America/Halifax:20260525T170000
DTSTAMP:20260425T131209
CREATED:20260319T141230Z
LAST-MODIFIED:20260319T141230Z
UID:9598-1779696000-1779728400@lakesideyachtclub.com
SUMMARY:Memorial Day
DESCRIPTION:Watch for events to be scheduled as we near this date.
URL:https://lakesideyachtclub.com/event/memorial-day/
LOCATION:OH
ATTACH;FMTTYPE=image/jpeg:https://lakesideyachtclub.com/wp-content/uploads/2019/05/MemorialDay-Party.jpg
END:VEVENT
BEGIN:VEVENT
DTSTART;TZID=America/Halifax:20260526T170000
DTEND;TZID=America/Halifax:20260526T210000
DTSTAMP:20260425T131209
CREATED:20230205T194718Z
LAST-MODIFIED:20260423T143221Z
UID:7325-1779814800-1779829200@lakesideyachtclub.com
SUMMARY:Taco Day
DESCRIPTION:Every Tuesday from 5:00 to 9:00 PM\n$1.50 Beef or Chicken Tacos\, hard or soft shell\nA Chef’s Choice Taco is also available.  
URL:https://lakesideyachtclub.com/event/taco-tuesday-4/
LOCATION:Lakeside Yacht Club\, Marginal Road\, Cleveland\, OH\, United States
CATEGORIES:Food & Beverage
ATTACH;FMTTYPE=image/jpeg:https://lakesideyachtclub.com/wp-content/uploads/2013/03/Tacos.jpg
END:VEVENT
BEGIN:VEVENT
DTSTART;TZID=America/Halifax:20260530T180000
DTEND;TZID=America/Halifax:20260530T235900
DTSTAMP:20260425T131209
CREATED:20230228T172850Z
LAST-MODIFIED:20251124T200016Z
UID:7444-1780164000-1780185540@lakesideyachtclub.com
SUMMARY:Commodore's Ball - The Roaring Twenties
DESCRIPTION:Add this to your calendar.  More details to be posted as we near the event..
URL:https://lakesideyachtclub.com/event/commodores-ball/
LOCATION:Lakeside Yacht Club\, Marginal Road\, Cleveland\, OH\, United States
CATEGORIES:Club Activity
ATTACH;FMTTYPE=image/jpeg:https://lakesideyachtclub.com/wp-content/uploads/2023/02/image-170154600997r.jpg
END:VEVENT
BEGIN:VEVENT
DTSTART;TZID=America/Halifax:20260602T180000
DTEND;TZID=America/Halifax:20260602T200000
DTSTAMP:20260425T131209
CREATED:20250509T113120Z
LAST-MODIFIED:20260412T165825Z
UID:8907-1780423200-1780430400@lakesideyachtclub.com
SUMMARY:Book Club
DESCRIPTION:Join us for our Monthly Book Club.\nMore on this month’s selection in the Mariner Newsletter  
URL:https://lakesideyachtclub.com/event/book-club-2/
LOCATION:Lakeside Yacht Club\, 4851 Marginal Road\, Cleveland\, OH\, United States
CATEGORIES:Club Activity
ATTACH;FMTTYPE=image/jpeg:https://lakesideyachtclub.com/wp-content/uploads/2026/04/81pwJjgcwwL._AC_UF10001000_QL80_.jpg
END:VEVENT
BEGIN:VEVENT
DTSTART;TZID=America/Halifax:20260707T180000
DTEND;TZID=America/Halifax:20260707T200000
DTSTAMP:20260425T131209
CREATED:20240408T200330Z
LAST-MODIFIED:20260412T170014Z
UID:8223-1783447200-1783454400@lakesideyachtclub.com
SUMMARY:Book Club
DESCRIPTION:Join us for this month’s Book Club meeting.\nMore info on our selection.
URL:https://lakesideyachtclub.com/event/book-club-3/
LOCATION:OH
CATEGORIES:Club Activity
ATTACH;FMTTYPE=image/jpeg:https://lakesideyachtclub.com/wp-content/uploads/2026/04/finding-grace.jpeg
END:VEVENT
END:VCALENDAR