BEGIN:VCALENDAR
VERSION:2.0
PRODID:-//Lakeside Yacht Club - ECPv6.15.20//NONSGML v1.0//EN
CALSCALE:GREGORIAN
METHOD:PUBLISH
X-ORIGINAL-URL:https://lakesideyachtclub.com
X-WR-CALDESC:Events for Lakeside Yacht Club
REFRESH-INTERVAL;VALUE=DURATION:PT1H
X-Robots-Tag:noindex
X-PUBLISHED-TTL:PT1H
BEGIN:VTIMEZONE
TZID:America/Halifax
BEGIN:DAYLIGHT
TZOFFSETFROM:-0400
TZOFFSETTO:-0300
TZNAME:ADT
DTSTART:20240310T060000
END:DAYLIGHT
BEGIN:STANDARD
TZOFFSETFROM:-0300
TZOFFSETTO:-0400
TZNAME:AST
DTSTART:20241103T050000
END:STANDARD
BEGIN:DAYLIGHT
TZOFFSETFROM:-0400
TZOFFSETTO:-0300
TZNAME:ADT
DTSTART:20250309T060000
END:DAYLIGHT
BEGIN:STANDARD
TZOFFSETFROM:-0300
TZOFFSETTO:-0400
TZNAME:AST
DTSTART:20251102T050000
END:STANDARD
BEGIN:DAYLIGHT
TZOFFSETFROM:-0400
TZOFFSETTO:-0300
TZNAME:ADT
DTSTART:20260308T060000
END:DAYLIGHT
BEGIN:STANDARD
TZOFFSETFROM:-0300
TZOFFSETTO:-0400
TZNAME:AST
DTSTART:20261101T050000
END:STANDARD
BEGIN:DAYLIGHT
TZOFFSETFROM:-0400
TZOFFSETTO:-0300
TZNAME:ADT
DTSTART:20270314T060000
END:DAYLIGHT
BEGIN:STANDARD
TZOFFSETFROM:-0300
TZOFFSETTO:-0400
TZNAME:AST
DTSTART:20271107T050000
END:STANDARD
END:VTIMEZONE
BEGIN:VEVENT
DTSTART;TZID=America/Halifax:20260414T170000
DTEND;TZID=America/Halifax:20260414T210000
DTSTAMP:20260420T021605
CREATED:20230228T173216Z
LAST-MODIFIED:20260319T135700Z
UID:7446-1776186000-1776200400@lakesideyachtclub.com
SUMMARY:Taco Day
DESCRIPTION:Every Tuesday from 5:00 to 9:00 PM\n$1.50 Beef or Chicken Tacos\, hard or soft shell\nA Chef’s Choice Taco is also available.  
URL:https://lakesideyachtclub.com/event/taco-tuesday-5/
LOCATION:Lakeside Yacht Club\, Marginal Road\, Cleveland\, OH\, United States
CATEGORIES:Food & Beverage
ATTACH;FMTTYPE=image/jpeg:https://lakesideyachtclub.com/wp-content/uploads/2013/03/Tacos.jpg
END:VEVENT
BEGIN:VEVENT
DTSTART;TZID=America/Halifax:20260407T180000
DTEND;TZID=America/Halifax:20260407T190000
DTSTAMP:20260420T021605
CREATED:20251124T204048Z
LAST-MODIFIED:20260412T165529Z
UID:9309-1775584800-1775588400@lakesideyachtclub.com
SUMMARY:Book Club
DESCRIPTION:Join us for our Monthly Book Club.\nMore on this month’s selection in the Mariner Newsletter  
URL:https://lakesideyachtclub.com/event/book-club-5/
ATTACH;FMTTYPE=image/jpeg:https://lakesideyachtclub.com/wp-content/uploads/2025/11/brokencountry.jpg
END:VEVENT
BEGIN:VEVENT
DTSTART;TZID=America/Halifax:20260407T170000
DTEND;TZID=America/Halifax:20260407T210000
DTSTAMP:20260420T021605
CREATED:20240216T203700Z
LAST-MODIFIED:20260319T135634Z
UID:8119-1775581200-1775595600@lakesideyachtclub.com
SUMMARY:Taco Day
DESCRIPTION:Every Tuesday from 5:00 to 9:00 PM\n$1.50 Beef or Chicken Tacos\, hard or soft shell\nA Chef’s Choice Taco is also available.  
URL:https://lakesideyachtclub.com/event/taco-day/
CATEGORIES:Food & Beverage
ATTACH;FMTTYPE=image/jpeg:https://lakesideyachtclub.com/wp-content/uploads/2013/03/Tacos.jpg
END:VEVENT
BEGIN:VEVENT
DTSTART;TZID=America/Halifax:20260405T110000
DTEND;TZID=America/Halifax:20260405T143000
DTSTAMP:20260420T021605
CREATED:20200223T163720Z
LAST-MODIFIED:20260319T135357Z
UID:5530-1775386800-1775399400@lakesideyachtclub.com
SUMMARY:Easter Buffet Brunch
DESCRIPTION:Sunday\, 11 am-2:30 pm\nPlease RSVP by April 2\, 2026  \nAdults $40\, Kids 10 and under  $ 15.  \nHere is this year’s Menu  \nPotato O’Brien\nApple-Wood Smoked Bacon\nMaple Sausage Links\nFrench Toast with Mixed Berry Syrup\nSliced Seasonal Fruit\nMuffins\, Bagels\, and Assorted Danish\nScrambled Eggs\nOmelet Station\nRoasted Red-skin Potatoes with Fresh Herbs and Parmesan\nSweet Potato Hash\nFresh Green Beans & Carrots\nCarved Bourbon Glazed Cherry Ham\nPan Seared Cod with Tomato Basil Sauce\nChicken Marsala\nCarved Peppercorn Chimichurri Strip Loin\nAssorted Desserts
URL:https://lakesideyachtclub.com/event/easter-buffet/
LOCATION:Lakeside Yacht Club\, Marginal Road\, Cleveland\, OH\, United States
CATEGORIES:Food & Beverage
ATTACH;FMTTYPE=image/jpeg:https://lakesideyachtclub.com/wp-content/uploads/2019/03/easter-holiday2.jpg
END:VEVENT
BEGIN:VEVENT
DTSTART;TZID=America/Halifax:20260402T170000
DTEND;TZID=America/Halifax:20260402T210000
DTSTAMP:20260420T021605
CREATED:20260319T140152Z
LAST-MODIFIED:20260326T184239Z
UID:9595-1775149200-1775163600@lakesideyachtclub.com
SUMMARY:Prime Rib Night
DESCRIPTION:5:00 PM to 9:00 PM \nRESERVATIONS ARE REQUIRED TO GUARANTEE PRIME RIB \nThe Queen of Hearts is Back! \nThe Pot is at $6\,308 and climbing! \nThe Queen Lives on!    \nThe Queen and one Joker are still left!
URL:https://lakesideyachtclub.com/event/prime-rib-night/
CATEGORIES:Food & Beverage
ATTACH;FMTTYPE=image/jpeg:https://lakesideyachtclub.com/wp-content/uploads/2013/05/PRimeRib-PublicDomain.jpg
END:VEVENT
BEGIN:VEVENT
DTSTART;TZID=America/Halifax:20260331T170000
DTEND;TZID=America/Halifax:20260331T210000
DTSTAMP:20260420T021605
CREATED:20230205T194459Z
LAST-MODIFIED:20260303T011628Z
UID:7320-1774976400-1774990800@lakesideyachtclub.com
SUMMARY:Taco Day
DESCRIPTION:Every Tuesday from 5:00 to 9:00 PM\n$1.50 Beef or Chicken Tacos\, hard or soft shell\nA Chef’s Choice Taco is also available.  
URL:https://lakesideyachtclub.com/event/taco-tuesday/
LOCATION:Lakeside Yacht Club\, Marginal Road\, Cleveland\, OH\, United States
CATEGORIES:Food & Beverage
ATTACH;FMTTYPE=image/jpeg:https://lakesideyachtclub.com/wp-content/uploads/2013/03/Tacos.jpg
END:VEVENT
BEGIN:VEVENT
DTSTART;TZID=America/Halifax:20260327T180000
DTEND;TZID=America/Halifax:20260327T210000
DTSTAMP:20260420T021605
CREATED:20250410T150023Z
LAST-MODIFIED:20260326T182251Z
UID:8830-1774634400-1774645200@lakesideyachtclub.com
SUMMARY:Pasta Night
DESCRIPTION:Pasta Bar\n6:00 PM to 9:00 PM  (reservations required)   $22.00\nPasta available:\nPenne\, Angel Hair\, or Spaghetti\nChoice of sauces:\nMarinara\, Alfredo\, Garlic & Oil\, or Pesto \nChoice of toppings:\nBeef\, chicken\, meatballs\, Italian sausage\, scallops\,\nshrimp\, mussels\, mushrooms\, tomatoes\,\nartichokes\, green and red peppers\, and Lasagna. \nJust a reminder:  We no longer offer “To-Go Boxes”
URL:https://lakesideyachtclub.com/event/pasta-night/
LOCATION:Lakeside Yacht Club\, Marginal Road\, Cleveland\, OH\, United States
CATEGORIES:Food & Beverage
ATTACH;FMTTYPE=image/jpeg:https://lakesideyachtclub.com/wp-content/uploads/2017/08/pasta.jpg
END:VEVENT
BEGIN:VEVENT
DTSTART;TZID=America/Halifax:20260324T170000
DTEND;TZID=America/Halifax:20260324T210000
DTSTAMP:20260420T021605
CREATED:20230205T194718Z
LAST-MODIFIED:20260303T011600Z
UID:7325-1774371600-1774386000@lakesideyachtclub.com
SUMMARY:Taco Day
DESCRIPTION:Every Tuesday from 5:00 to 9:00 PM\n$1.50 Beef or Chicken Tacos\, hard or soft shell\nA Chef’s Choice Taco is also available.  
URL:https://lakesideyachtclub.com/event/taco-tuesday-4/
LOCATION:Lakeside Yacht Club\, Marginal Road\, Cleveland\, OH\, United States
CATEGORIES:Food & Beverage
ATTACH;FMTTYPE=image/jpeg:https://lakesideyachtclub.com/wp-content/uploads/2013/03/Tacos.jpg
END:VEVENT
BEGIN:VEVENT
DTSTART;TZID=America/Halifax:20260319T183000
DTEND;TZID=America/Halifax:20260319T200000
DTSTAMP:20260420T021605
CREATED:20260309T184737Z
LAST-MODIFIED:20260309T184737Z
UID:9398-1773945000-1773950400@lakesideyachtclub.com
SUMMARY:Bourbon Tasting
DESCRIPTION:Bourbon Tasting March 19\, 2026  \nPlease RSVP to officemanager@lakesideyachtclub.com \nWe only have 20 spots available. The event is from 6:30 pm to 8 pm \n\nBlade & Bow Kentucky Bourbon from Stitzer Weller Distillery\, the Cathedral of Bourbon\nBulleit 10-Year Bourbon Kentucky\nBulleit Bond 100 proof latest Bulleit line extension\nGeorge Dickel 8-year 90-proof Bourbon Tennessee\nGeorge Dickel Barrel Select Tennessee Whiskey
URL:https://lakesideyachtclub.com/event/bourbon-tasting/
CATEGORIES:Food & Beverage
ATTACH;FMTTYPE=image/webp:https://lakesideyachtclub.com/wp-content/uploads/2026/03/bulleit-frontier-whiskey-bundle-the-barrel-tap-www-thebarreltap-com.webp
END:VEVENT
BEGIN:VEVENT
DTSTART;TZID=America/Halifax:20260317T170000
DTEND;TZID=America/Halifax:20260317T210000
DTSTAMP:20260420T021605
CREATED:20230228T173323Z
LAST-MODIFIED:20260303T011454Z
UID:7448-1773766800-1773781200@lakesideyachtclub.com
SUMMARY:Taco Day
DESCRIPTION:Every Tuesday from 5:00 to 9:00 PM\n$1.50 Beef or Chicken Tacos\, hard or soft shell\nA Chef’s Choice Taco is also available.  
URL:https://lakesideyachtclub.com/event/taco-tuesday-7/
LOCATION:Lakeside Yacht Club\, Marginal Road\, Cleveland\, OH\, United States
CATEGORIES:Food & Beverage
ATTACH;FMTTYPE=image/jpeg:https://lakesideyachtclub.com/wp-content/uploads/2017/08/taco.jpg
END:VEVENT
BEGIN:VEVENT
DTSTART;VALUE=DATE:20260317
DTEND;VALUE=DATE:20260319
DTSTAMP:20260420T021605
CREATED:20230228T170635Z
LAST-MODIFIED:20260306T161253Z
UID:7435-1773709200-1773795599@lakesideyachtclub.com
SUMMARY:St. Patricks Day Specials
DESCRIPTION:Fried Reuben Bites\nEgg rolls stuffed with corned beef\, Swiss cheese\, sauerkraut\, and thousand island dressing. $10 \nIrish potato skins\nCrispy potato skins stuffed with hashbrowns\, cheddar cheese\, and chopped corned beef. $10 \nSandwiches\nCorned Beef-  The classic way with shaved brisket on toasted rye $15 \nCorned Beef Reuben- Shaved brisket with Swiss cheese\, sauerkraut\, thousand island dressing on marble rye. $16 \nEntrée\nCorned Beef & Cabbage\nHand-cut brisket\, braised cabbage\, carrots\, redskin potatoes. $18
URL:https://lakesideyachtclub.com/event/st-patricks-day/
CATEGORIES:Food & Beverage
ATTACH;FMTTYPE=image/jpeg:https://lakesideyachtclub.com/wp-content/uploads/2026/03/stpatricksday.jpg
END:VEVENT
BEGIN:VEVENT
DTSTART;TZID=America/Halifax:20260310T170000
DTEND;TZID=America/Halifax:20260310T210000
DTSTAMP:20260420T021605
CREATED:20230409T194607Z
LAST-MODIFIED:20260303T011431Z
UID:7322-1773162000-1773176400@lakesideyachtclub.com
SUMMARY:Taco Day
DESCRIPTION:Every Tuesday from 5:00 to 9:00 PM\n$1.50 Beef or Chicken Tacos\, hard or soft shell\nA Chef’s Choice Taco is also available.  
URL:https://lakesideyachtclub.com/event/taco-tuesday-3/
LOCATION:Lakeside Yacht Club\, Marginal Road\, Cleveland\, OH\, United States
CATEGORIES:Food & Beverage
ATTACH;FMTTYPE=image/jpeg:https://lakesideyachtclub.com/wp-content/uploads/2013/03/Tacos.jpg
END:VEVENT
BEGIN:VEVENT
DTSTART;TZID=America/Halifax:20260305T170000
DTEND;TZID=America/Halifax:20260305T210000
DTSTAMP:20260420T021605
CREATED:20231010T213723Z
LAST-MODIFIED:20260303T011310Z
UID:7301-1772730000-1772744400@lakesideyachtclub.com
SUMMARY:Prime Rib Night
DESCRIPTION:5:00 PM to 9:00 PM \nRESERVATIONS ARE REQUIRED TO GUARANTEE PRIME RIB\n \nPlus\nThe Queen of Hearts is Back!\nThe Pot is at $6\,007 and climbing! \nThe Queen Lives on! \nThe Queen and one Joker are still left!
URL:https://lakesideyachtclub.com/event/prime-rib-night-2/
LOCATION:Lakeside Yacht Club\, Marginal Road\, Cleveland\, OH\, United States
CATEGORIES:Food & Beverage
ATTACH;FMTTYPE=image/jpeg:https://lakesideyachtclub.com/wp-content/uploads/2021/04/Prime-Rib-2022.jpg
END:VEVENT
BEGIN:VEVENT
DTSTART;TZID=America/Halifax:20260303T170000
DTEND;TZID=America/Halifax:20260303T210000
DTSTAMP:20260420T021605
CREATED:20240711T141057Z
LAST-MODIFIED:20260303T011401Z
UID:8386-1772557200-1772571600@lakesideyachtclub.com
SUMMARY:Taco Day
DESCRIPTION:Every Tuesday from 5:00 to 9:00 PM\n$1.50 Beef or Chicken Tacos\, hard or soft shell\nA Chef’s Choice Taco is also available.  
URL:https://lakesideyachtclub.com/event/taco-day-3/
CATEGORIES:Food & Beverage
ATTACH;FMTTYPE=image/jpeg:https://lakesideyachtclub.com/wp-content/uploads/2013/03/Tacos.jpg
END:VEVENT
BEGIN:VEVENT
DTSTART;VALUE=DATE:20251212
DTEND;VALUE=DATE:20260115
DTSTAMP:20260420T021605
CREATED:20241130T180527Z
LAST-MODIFIED:20251010T163342Z
UID:8617-1765501200-1768352399@lakesideyachtclub.com
SUMMARY:Club Closed
DESCRIPTION:The Lakeside Yacht Club will re-open on Tuesday\, January 14\, 2026
URL:https://lakesideyachtclub.com/event/club-closed-4/
END:VEVENT
BEGIN:VEVENT
DTSTART;TZID=America/Halifax:20251211T180000
DTEND;TZID=America/Halifax:20251211T223000
DTSTAMP:20260420T021605
CREATED:20190928T201216Z
LAST-MODIFIED:20251208T154934Z
UID:5172-1765476000-1765492200@lakesideyachtclub.com
SUMMARY:Member Appreciation Party
DESCRIPTION:As the year draws to a close\, we want to recognize and appreciate our members at this party.  Please join us for Live Music and Merriment.\nFree Appetizers 6 – 9 pm\nLive music 7:30 pm-10:30 pm\nThe Club will close after this event and reopen on January 14th \nWe will be collecting Toys for Tots at this event!\n(If you bring a toy\, please don’t wrap it.)\n \n\n 
URL:https://lakesideyachtclub.com/event/member-appreciation-party/
LOCATION:Lakeside Yacht Club\, Marginal Road\, Cleveland\, OH\, United States
CATEGORIES:Club Activity
ATTACH;FMTTYPE=image/jpeg:https://lakesideyachtclub.com/wp-content/uploads/2019/09/MemberAppreciation.jpg
END:VEVENT
BEGIN:VEVENT
DTSTART;TZID=America/Halifax:20251207T120000
DTEND;TZID=America/Halifax:20251207T150000
DTSTAMP:20260420T021605
CREATED:20210906T220524Z
LAST-MODIFIED:20251002T203908Z
UID:3310-1765108800-1765119600@lakesideyachtclub.com
SUMMARY:Children's Holiday Party
DESCRIPTION:12:00 PM to 3:00 pm  \nAll LYC children and Grandchildren 12 and under are welcome! \nLunch is 12:00 pm to 2:00 PM\nFace Painters\, Glitter Tattoos\, Magic Show\, Crafts & Balloon Creations  \n2 pm Santa Arrives\nBuffet Menu Only: $14 for adults\, children eat free!\nRigatoni and Meatballs\, Chicken Fingers\, Hot Dogs\, Pizza\, Sloppy Joes\, Tater tots\, and Cold cut tray. \nPlease RSVP by no later than December 2nd – Call 216-432-3270 \n*Cookies to share are welcome* \n*A donation of $10.00 per child to help fund the children’s Holiday party is appreciated. Donations can be given to the LYC Office. *
URL:https://lakesideyachtclub.com/event/childrens-holiday-party/
LOCATION:Lakeside Yacht Club\, Marginal Road\, Cleveland\, OH\, United States
CATEGORIES:Seasonal
ATTACH;FMTTYPE=image/jpeg:https://lakesideyachtclub.com/wp-content/uploads/2017/11/christmas-decorations-1.jpg
END:VEVENT
BEGIN:VEVENT
DTSTART;TZID=America/Halifax:20251129T120000
DTEND;TZID=America/Halifax:20251129T143000
DTSTAMP:20260420T021605
CREATED:20171107T213446Z
LAST-MODIFIED:20251002T204040Z
UID:3304-1764417600-1764426600@lakesideyachtclub.com
SUMMARY:Ohio State Vs. Michigan Football Game
DESCRIPTION:Watch the Ohio State Buckeyes take on the Michigan Wolverine’s \n12pm Saturday November 29th at LYC \n$10 1/4lb Chili Dogs\, served with your choice of side. \n $10 Beef and Cheese Nachos \n 
URL:https://lakesideyachtclub.com/event/ohio-state-vs-michigan-football-game/
LOCATION:Lakeside Yacht Club\, Marginal Road\, Cleveland\, OH\, United States
CATEGORIES:Entertainment
ATTACH;FMTTYPE=image/jpeg:https://lakesideyachtclub.com/wp-content/uploads/2017/11/OhioState-V-Michigan.jpg
END:VEVENT
BEGIN:VEVENT
DTSTART;TZID=America/Halifax:20251128T180000
DTEND;TZID=America/Halifax:20251128T210000
DTSTAMP:20260420T021605
CREATED:20230308T181210Z
LAST-MODIFIED:20251119T002725Z
UID:7479-1764352800-1764363600@lakesideyachtclub.com
SUMMARY:Pasta Night
DESCRIPTION:Pasta Bar\n6:00 PM to 9:00 PM  (reservations required)   $22.00\nPasta available:\nPenne\, Angel Hair\, or Spaghetti\nChoice of sauces:\nMarinara\, Alfredo\, Garlic & Oil\, or Pesto\nChoice of toppings:\nBeef\, chicken\, meatballs\, Italian sausage\, scallops\,\nshrimp\, mussels\, mushrooms\, tomatoes\,\nartichokes\, green and red Peppers\, and lasagna.\nJust a reminder:  We no longer offer “To-Go Boxes”
URL:https://lakesideyachtclub.com/event/pasta-night-entertainment/
LOCATION:Lakeside Yacht Club\, Marginal Road\, Cleveland\, OH\, United States
CATEGORIES:Food & Beverage
ATTACH;FMTTYPE=image/jpeg:https://lakesideyachtclub.com/wp-content/uploads/2017/08/pasta.jpg
END:VEVENT
BEGIN:VEVENT
DTSTART;VALUE=DATE:20251127
DTEND;VALUE=DATE:20251129
DTSTAMP:20260420T021605
CREATED:20230911T140136Z
LAST-MODIFIED:20251002T210725Z
UID:7927-1764205200-1764291599@lakesideyachtclub.com
SUMMARY:Thanksgiving Holiday- Club Closed
DESCRIPTION:While we all celebrate Thanksgiving with friends and family our club will be closed for the holiday.
URL:https://lakesideyachtclub.com/event/thanksgiving/
CATEGORIES:Holiday
ATTACH;FMTTYPE=image/jpeg:https://lakesideyachtclub.com/wp-content/uploads/2023/09/turkey-wreath.jpg
END:VEVENT
BEGIN:VEVENT
DTSTART;VALUE=DATE:20251121
DTEND;VALUE=DATE:20251123
DTSTAMP:20260420T021605
CREATED:20251119T003103Z
LAST-MODIFIED:20251119T003103Z
UID:9289-1763686800-1763773199@lakesideyachtclub.com
SUMMARY:Last Day to Order Turkey Dinners To Go
DESCRIPTION:Don’t want to spend all day in the kitchen this Thanksgiving?\nThink about ordering LYC’s Turkey dinners to go!   All orders must be placed by November 21st\nPick up is on Wednesday\, November 26th \nSliced Turkey Dinner $22 per person\, includes three sides of your choice \nA la Carte menu\nWhole Turkey $11 per pound “10lb minimum” \nSliced Turkey $9 per person \nSide Choices $5 per person\nCranberry Chutney\, Mashed Potatoes and Gravy\, Green Bean Casserole\, Sweet Potato Hash\, Stuffing\, Dinner Rolls\, and Butter. \nPies\nClassic Pumpkin $11\nClassic Sweet Potato $11
URL:https://lakesideyachtclub.com/event/last-day-to-order-turkey-dinners-to-go/
CATEGORIES:Food & Beverage
ATTACH;FMTTYPE=image/jpeg:https://lakesideyachtclub.com/wp-content/uploads/2025/10/TurkeySmall.jpg
END:VEVENT
BEGIN:VEVENT
DTSTART;TZID=America/Halifax:20251108T190000
DTEND;TZID=America/Halifax:20251108T235900
DTSTAMP:20260420T021605
CREATED:20181105T000031Z
LAST-MODIFIED:20251031T172610Z
UID:4045-1762628400-1762646340@lakesideyachtclub.com
SUMMARY:Change of Watch
DESCRIPTION:Lakeside Yacht Club\nCordially invites you and your guest to the\nChange of Watch on Saturday\, November  8th\, 2025\nHors D’oeuvres – 6:15 pm\nCeremonies – 7:00 pm\nDinner Served – 7:30 pm\nLive Entertainment – 8 pm- 11:30 pm  \nFirst Course\nItalian Wedding Soup \n2nd Course choice of one item:\nPan-seared chicken\, Statler breast with chanterelle cream sauce\, dauphinoise potatoes\, asparagus\, and rainbow baby carrots.\nor\nPan-seared Chilean Sea Bass with herb velouté sauce\, dauphinoise potatoes\, asparagus\, and rainbow baby carrots.\nor\nFilet Mignon\, red wine bordelaise\, dauphinoise potatoes\, asparagus\, and rainbow baby carrots.\nor\nButternut squash ravioli\, butternut squash broth\, fried sage\, pumpkin seeds\, and red wine syrup. \n3rd Course\nDessert  \n$45.00 per person + 20% gratuity and 8% sales tax\nR.S.V.P. By November 6\, 2025\n(216) 432-3270\nCasually Formal
URL:https://lakesideyachtclub.com/event/change-of-watch/
LOCATION:Lakeside Yacht Club\, Marginal Road\, Cleveland\, OH\, United States
CATEGORIES:Club Activity
ATTACH;FMTTYPE=image/jpeg:https://lakesideyachtclub.com/wp-content/uploads/2019/11/DinnerAtTheClub.jpg
END:VEVENT
BEGIN:VEVENT
DTSTART;VALUE=DATE:20251106
DTEND;VALUE=DATE:20251108
DTSTAMP:20260420T021605
CREATED:20251031T172059Z
LAST-MODIFIED:20251031T172622Z
UID:9270-1762390800-1762477199@lakesideyachtclub.com
SUMMARY:Water Shutoff
DESCRIPTION:Water to all the docks will be turned off today. 
URL:https://lakesideyachtclub.com/event/water-shutoff/
CATEGORIES:Seasonal
END:VEVENT
BEGIN:VEVENT
DTSTART;TZID=America/Halifax:20251026T130000
DTEND;TZID=America/Halifax:20251026T150000
DTSTAMP:20260420T021605
CREATED:20180916T184251Z
LAST-MODIFIED:20251002T204328Z
UID:3998-1761483600-1761490800@lakesideyachtclub.com
SUMMARY:Children's Halloween Party- Members Only
DESCRIPTION:A great time for families and kids to enjoy Halloween.  Show off the kid’s costumes and have a fun afternoon. \nLunch\, Crafts\, and Pumpkin decorating\n$13 per person\nMacaroni and Cheese\, Assorted Pizzas\, Mini Corndogs\, Chips\, and salsa\nHot Dogs\, assorted Desserts\n1 pm Lunch\n“Please bring a bag of candy to pass out to the children”\n1:45-2:15 – Magic show\n2:15 – 2:45 – Costume parade and prizes\n2:45 – 3:00- Trick or Trunk\nPlease RSVP by October 21\, 2025 \nThis is a Member’s Only Event 
URL:https://lakesideyachtclub.com/event/childrens-halloween-party/
LOCATION:Lakeside Yacht Club\, Marginal Road\, Cleveland\, OH\, United States
CATEGORIES:Club Activity
ATTACH;FMTTYPE=image/jpeg:https://lakesideyachtclub.com/wp-content/uploads/2018/07/halloween.jpg
END:VEVENT
BEGIN:VEVENT
DTSTART;TZID=America/Halifax:20251025T190000
DTEND;TZID=America/Halifax:20251025T235900
DTSTAMP:20260420T021605
CREATED:20220710T131101Z
LAST-MODIFIED:20251002T204719Z
UID:6971-1761418800-1761436740@lakesideyachtclub.com
SUMMARY:Adults Halloween Party- Members Only
DESCRIPTION:$16 a person ++ Tax & Gratuity\n\nSubmarine Sandwiches\nPulled Pork Sliders\nWings\nNacho Bar\nMozzarella Sticks\nPotato Skins\nAssorted Desserts\n\nDJ Entertainment from 7 pm-11 pm\n$50.00 LYC Gift Certificate for Best Male and Female Costume.\nPlease sign up at the office no later than October 15\, 2025\nThe club will close at 4:30 pm and re-open at 7 pm\nFor the Halloween Event only!\nAny cancellations made after the sign-up date will incur a charge. If we don’t have 40 people signed up for this event by the October 15th deadline\, this event will be canceled!
URL:https://lakesideyachtclub.com/event/adults-halloween-party/
LOCATION:Lakeside Yacht Club\, Marginal Road\, Cleveland\, OH\, United States
CATEGORIES:Seasonal
ATTACH;FMTTYPE=image/jpeg:https://lakesideyachtclub.com/wp-content/uploads/2022/07/halloween.jpg
END:VEVENT
BEGIN:VEVENT
DTSTART;TZID=America/Halifax:20251021T190000
DTEND;TZID=America/Halifax:20251021T203000
DTSTAMP:20260420T021605
CREATED:20231003T174718Z
LAST-MODIFIED:20251012T142724Z
UID:7947-1761073200-1761078600@lakesideyachtclub.com
SUMMARY:General Membership Meeting
DESCRIPTION:Join us for a General Membership Meeting to vote for Club Positions for the coming year.\nMore information on candidates is here. \nThe Finance Committee recommends the following adjustments to LYC’s Fee Schedule: \nIncrease the Capital Improvement Fund Fee by $10/month effective November 1\, 2025. The funds raised will help pay for the Center Dock Replacement and other capital improvements\, such as new dining room tables\, upgrading the Gas House dock boards\, and new landscaping needed after the bike path construction is complete. \nIncrease the electrical charge to $125 per air conditioner effective November 1\, 2025. \nIncrease Senior Boating Member Initiation Fee by $500\, to $8\,500\, effective November 1\, 2025. \nThe following is the list of People running for the Club Elected Positions for 2026 \nCommodore- Rob Ruhlman\nVice Commodore- Mike Cunningham\nRear Commodore- Adam Ressler\nFleet Captain- Greg Vittardi\nTreasurer- David Hunt\nSecretary- Jim Kubik\nFleet Surgeon- Paul Ciepiel\nTrustee Position- 2-year term\, “four spots available”\nDan Lovinger\, Bryan McPhail\, Ken Cerimele\, and Mike Mitro. \nLakeside Yacht Club’s Nomination Committee for 2025/ Fiscal 2026 Positions.\nToni Cavasini Chairperson\nButch Bates\nDan Henry\nJim Penza
URL:https://lakesideyachtclub.com/event/general-membership-meeting/
LOCATION:Lakeside Yacht Club\, Marginal Road\, Cleveland\, OH\, United States
CATEGORIES:Club Activity
ATTACH;FMTTYPE=image/jpeg:https://lakesideyachtclub.com/wp-content/uploads/2019/05/LYC-HeaderBackground-2019-2.jpg
END:VEVENT
BEGIN:VEVENT
DTSTART;VALUE=DATE:20251015
DTEND;VALUE=DATE:20251017
DTSTAMP:20260420T021605
CREATED:20251010T163630Z
LAST-MODIFIED:20251010T163734Z
UID:9249-1760490000-1760576399@lakesideyachtclub.com
SUMMARY:Pool and Hot Tub Closed
DESCRIPTION:Due to expected bad weather.
URL:https://lakesideyachtclub.com/event/pool-and-hot-tub-closed/
CATEGORIES:Club Activity
END:VEVENT
BEGIN:VEVENT
DTSTART;TZID=America/Halifax:20251011T180000
DTEND;TZID=America/Halifax:20251011T210000
DTSTAMP:20260420T021605
CREATED:20230331T170130Z
LAST-MODIFIED:20250829T194530Z
UID:7512-1760205600-1760216400@lakesideyachtclub.com
SUMMARY:Annual Clam Bake
DESCRIPTION:October 11\, 2025    6pm-9:00pm \n\nChicken & Clam Bake \n12oz N.Y. Steak & Clam Bake   \n8oz. Lobster Tail & Clam Bake   \nExtra Clams will be available – Priced per dozen\n\n Clam Bake items: \n\nClam broth\nClam chowder\nDozen clams\nCorn on the cob\nCandied Yams\n\nAll items must be pre-ordered to ensure availability. Reservations are required!  \nPlease RSVP by October 7th \n 
URL:https://lakesideyachtclub.com/event/annual-clam-bake/
LOCATION:Lakeside Yacht Club\, Marginal Road\, Cleveland\, OH\, United States
CATEGORIES:Food & Beverage
ATTACH;FMTTYPE=image/jpeg:https://lakesideyachtclub.com/wp-content/uploads/2018/08/ClamBake.jpg
END:VEVENT
BEGIN:VEVENT
DTSTART;TZID=America/Halifax:20251004T113000
DTEND;TZID=America/Halifax:20251004T150000
DTSTAMP:20260420T021605
CREATED:20180916T185413Z
LAST-MODIFIED:20250925T160029Z
UID:4001-1759577400-1759590000@lakesideyachtclub.com
SUMMARY:3rd Annual Antwane Woodall Chili Cookoff
DESCRIPTION:$5 per person to taste the chili.\nFree Entry\nThis year\, it will be judged by a panel of mystery judges!\nMake your best pot (4 quarts) of chili and bring it to the club by 11:30 am. The entries will be judged by a blind taste test at 1 pm. The club will provide paper goods and spoons.\nWinner takes all!\nOne month of free dues!!!!\nAny style of chili is acceptable\, from mild to wild!!!  \nPlease RSVP with the LYC office if you plan on participating.\nEvent times will be confirmed once we near the event date. 
URL:https://lakesideyachtclub.com/event/chili-cookoff/
LOCATION:Lakeside Yacht Club\, Marginal Road\, Cleveland\, OH\, United States
CATEGORIES:Club Activity
ATTACH;FMTTYPE=image/jpeg:https://lakesideyachtclub.com/wp-content/uploads/2018/08/chilicookoff.jpg
END:VEVENT
BEGIN:VEVENT
DTSTART;TZID=America/Halifax:20250926T180000
DTEND;TZID=America/Halifax:20250926T210000
DTSTAMP:20260420T021605
CREATED:20230331T160103Z
LAST-MODIFIED:20250828T135848Z
UID:7500-1758909600-1758920400@lakesideyachtclub.com
SUMMARY:Pasta Bar
DESCRIPTION:Pasta Bar\n6:00 PM to 9:00 PM  (reservations required) \n$22.00\nPasta available:\nPenne\, Angel Hair\, or Spaghetti \nChoice of sauces:\nMarinara\, Alfredo\, Garlic & Oil\, or Pesto \nChoice of toppings:\nBeef\, chicken\, meatballs\, Italian sausage\, scallops\,\nshrimp\, mussels\, mushrooms\, tomatoes\,\nartichokes\, green and red Peppers\, and lasagna. \nJust a reminder:  We no longer offer “To-Go Boxes”
URL:https://lakesideyachtclub.com/event/pasta-bar-3/
LOCATION:Lakeside Yacht Club\, Marginal Road\, Cleveland\, OH\, United States
CATEGORIES:Food & Beverage
ATTACH;FMTTYPE=image/jpeg:https://lakesideyachtclub.com/wp-content/uploads/2017/08/pasta.jpg
END:VEVENT
END:VCALENDAR