BEGIN:VCALENDAR
VERSION:2.0
PRODID:-//Lakeside Yacht Club - ECPv6.15.20//NONSGML v1.0//EN
CALSCALE:GREGORIAN
METHOD:PUBLISH
X-WR-CALNAME:Lakeside Yacht Club
X-ORIGINAL-URL:https://lakesideyachtclub.com
X-WR-CALDESC:Events for Lakeside Yacht Club
REFRESH-INTERVAL;VALUE=DURATION:PT1H
X-Robots-Tag:noindex
X-PUBLISHED-TTL:PT1H
BEGIN:VTIMEZONE
TZID:America/Halifax
BEGIN:DAYLIGHT
TZOFFSETFROM:-0400
TZOFFSETTO:-0300
TZNAME:ADT
DTSTART:20240310T060000
END:DAYLIGHT
BEGIN:STANDARD
TZOFFSETFROM:-0300
TZOFFSETTO:-0400
TZNAME:AST
DTSTART:20241103T050000
END:STANDARD
BEGIN:DAYLIGHT
TZOFFSETFROM:-0400
TZOFFSETTO:-0300
TZNAME:ADT
DTSTART:20250309T060000
END:DAYLIGHT
BEGIN:STANDARD
TZOFFSETFROM:-0300
TZOFFSETTO:-0400
TZNAME:AST
DTSTART:20251102T050000
END:STANDARD
BEGIN:DAYLIGHT
TZOFFSETFROM:-0400
TZOFFSETTO:-0300
TZNAME:ADT
DTSTART:20260308T060000
END:DAYLIGHT
BEGIN:STANDARD
TZOFFSETFROM:-0300
TZOFFSETTO:-0400
TZNAME:AST
DTSTART:20261101T050000
END:STANDARD
END:VTIMEZONE
BEGIN:VEVENT
DTSTART;TZID=America/Halifax:20250523T193000
DTEND;TZID=America/Halifax:20250523T230000
DTSTAMP:20260423T012316
CREATED:20190510T133029Z
LAST-MODIFIED:20250521T150408Z
UID:4782-1748028600-1748041200@lakesideyachtclub.com
SUMMARY:Memorial Day Entertainment
DESCRIPTION:Motor City Gold 7:30 – 11:00 p.m.\n 
URL:https://lakesideyachtclub.com/event/memorial-day-cookout-2/
LOCATION:Lakeside Yacht Club\, Marginal Road\, Cleveland\, OH\, United States
CATEGORIES:Holiday
ATTACH;FMTTYPE=image/jpeg:https://lakesideyachtclub.com/wp-content/uploads/2023/06/band-on-stage-2.jpg
END:VEVENT
BEGIN:VEVENT
DTSTART;TZID=America/Halifax:20250524T080000
DTEND;TZID=America/Halifax:20250524T233000
DTSTAMP:20260423T012317
CREATED:20240426T155253Z
LAST-MODIFIED:20250521T152649Z
UID:8280-1748073600-1748129400@lakesideyachtclub.com
SUMMARY:Memorial Day Weekend Breakfast Buffet\, Cookout & Entertainment
DESCRIPTION:Breakfast Buffet $13.00 8:00 a.m. – 11:30 a.m.\nMemorial Day Weekend Cookout 12:00 – 4:30 p.m.\n The Ray Bans 7:30 – 11:30 p.m.\n  \nBreakfast Buffet Menu  \nSausage\nBacon\nBreakfast Potatoes\nScrambled eggs\nBagels\nDanish\nMini Muffins\nFresh fruit\nOmelet station  (Cheddar cheese\, mushrooms\, tomatoes\, onions\, peppers\, diced ham) \nMemorial Day Weekend Cookout \n½ Roasted Chickens $17\nSmoked BBQ Pork Ribs\, available half $22 or Full $30\nJumbo Hot Dogs $13\nBurgers on Kaiser bun $16\nGrilled Chicken Sandwich on a Kaiser bun $16\nItalian Sausage with Marinara\, Grilled Onions & Peppers $16\nVeggie Burger $16\nMixed Vegetable Skewer $16\nSteak Skewers $19\nSide Dishes\nPasta Salad\, Potato Salad\, Corn on the Cob\, BBQ Baked Beans with Bacon\, Watermelon Slices & Assorted Desserts \n 
URL:https://lakesideyachtclub.com/event/memorial-day-weekend-breakfast-buffet-cookout-entertainment/
CATEGORIES:Holiday
ATTACH;FMTTYPE=image/jpeg:https://lakesideyachtclub.com/wp-content/uploads/2019/05/MemorialDay-Party.jpg
END:VEVENT
BEGIN:VEVENT
DTSTART;TZID=America/Halifax:20250526T080000
DTEND;TZID=America/Halifax:20250526T193000
DTSTAMP:20260423T012317
CREATED:20240523T123946Z
LAST-MODIFIED:20250521T152630Z
UID:8313-1748246400-1748287800@lakesideyachtclub.com
SUMMARY:Memorial Day Weekend Holiday Events
DESCRIPTION:Breakfast Buffet $13.00 8:00 a.m. – 11:30 a.m.\nMemorial Day Weekend Cookout 12:00 – 7:30 p.m.\n  \nBreakfast Buffet Menu  \nSausage\nBacon\nBreakfast Potatoes\nScrambled eggs\nBagels\nDanish\nMini Muffins\nFresh fruit\nOmelet station  (Cheddar cheese\, mushrooms\, tomatoes\, onions\, peppers\, diced ham) \nMemorial Day Weekend Cookout \n½ Roasted Chickens $17\nSmoked BBQ Pork Ribs\, available half $22 or Full $30\nJumbo Hot Dogs $13\nBurgers on Kaiser bun $16\nGrilled Chicken Sandwich on a Kaiser bun $16\nItalian Sausage with Marinara\, Grilled Onions & Peppers $16\nVeggie Burger $16\nMixed Vegetable Skewer $16\nSteak Skewers $19\nSide Dishes\nPasta Salad\, Potato Salad\, Corn on the Cob\, BBQ Baked Beans with Bacon\, Watermelon Slices & Assorted Desserts \n 
URL:https://lakesideyachtclub.com/event/8313/
CATEGORIES:Holiday
ATTACH;FMTTYPE=image/jpeg:https://lakesideyachtclub.com/wp-content/uploads/2019/05/MemorialDay-Party.jpg
END:VEVENT
BEGIN:VEVENT
DTSTART;VALUE=DATE:20250527
DTEND;VALUE=DATE:20250529
DTSTAMP:20260423T012317
CREATED:20230308T182043Z
LAST-MODIFIED:20250410T144433Z
UID:7488-1748307600-1748393999@lakesideyachtclub.com
SUMMARY:Club Closed
DESCRIPTION:Lakeside Yacht Club is closed today.
URL:https://lakesideyachtclub.com/event/club-closed-3/
LOCATION:Lakeside Yacht Club\, Marginal Road\, Cleveland\, OH\, United States
CATEGORIES:Holiday
END:VEVENT
END:VCALENDAR