BEGIN:VCALENDAR
VERSION:2.0
PRODID:-//Lakeside Yacht Club - ECPv6.15.20//NONSGML v1.0//EN
CALSCALE:GREGORIAN
METHOD:PUBLISH
X-ORIGINAL-URL:https://lakesideyachtclub.com
X-WR-CALDESC:Events for Lakeside Yacht Club
REFRESH-INTERVAL;VALUE=DURATION:PT1H
X-Robots-Tag:noindex
X-PUBLISHED-TTL:PT1H
BEGIN:VTIMEZONE
TZID:America/Halifax
BEGIN:DAYLIGHT
TZOFFSETFROM:-0400
TZOFFSETTO:-0300
TZNAME:ADT
DTSTART:20240310T060000
END:DAYLIGHT
BEGIN:STANDARD
TZOFFSETFROM:-0300
TZOFFSETTO:-0400
TZNAME:AST
DTSTART:20241103T050000
END:STANDARD
BEGIN:DAYLIGHT
TZOFFSETFROM:-0400
TZOFFSETTO:-0300
TZNAME:ADT
DTSTART:20250309T060000
END:DAYLIGHT
BEGIN:STANDARD
TZOFFSETFROM:-0300
TZOFFSETTO:-0400
TZNAME:AST
DTSTART:20251102T050000
END:STANDARD
BEGIN:DAYLIGHT
TZOFFSETFROM:-0400
TZOFFSETTO:-0300
TZNAME:ADT
DTSTART:20260308T060000
END:DAYLIGHT
BEGIN:STANDARD
TZOFFSETFROM:-0300
TZOFFSETTO:-0400
TZNAME:AST
DTSTART:20261101T050000
END:STANDARD
END:VTIMEZONE
BEGIN:VEVENT
DTSTART;TZID=America/Halifax:20250525T080000
DTEND;TZID=America/Halifax:20250525T233000
DTSTAMP:20260425T094827
CREATED:20230308T181928Z
LAST-MODIFIED:20250521T152908Z
UID:7486-1748160000-1748215800@lakesideyachtclub.com
SUMMARY:Memorial Day Weekend Breakfast Buffet\, Cookout & Entertainment
DESCRIPTION:Breakfast Buffet $13.00     8:00 a.m. – 11:30 a.m.\nMemorial Day Weekend Cookout    12:00 – 4:30 p.m.\nBlessing of the Fleet 2:00 p.m.\nThe Zoomies 7:30 – 11:30 p.m.\n  \nBreakfast Buffet Menu  \nSausage\nBacon\nBreakfast Potatoes\nScrambled eggs\nBagels\nDanish\nMini Muffins\nFresh fruit\nOmelet station  (Cheddar cheese\, mushrooms\, tomatoes\, onions\, peppers\, diced ham) \nMemorial Day Weekend Cookout \n½ Roasted Chickens $17\nSmoked BBQ Pork Ribs\, available half $22 or Full $30\nJumbo Hot Dogs $13\nBurgers on Kaiser bun $16\nGrilled Chicken Sandwich on a Kaiser bun $16\nItalian Sausage with Marinara\, Grilled Onions & Peppers $16\nVeggie Burger $16\nMixed Vegetable Skewer $16\nSteak Skewers $19\nSide Dishes\nPasta Salad\, Potato Salad\, Corn on the Cob\, BBQ Baked Beans with Bacon\, Watermelon Slices & Assorted Desserts \n 
URL:https://lakesideyachtclub.com/event/memorial-day-weekend-breakfast-buffet-and-cookout/
LOCATION:Lakeside Yacht Club\, Marginal Road\, Cleveland\, OH\, United States
CATEGORIES:Food & Beverage
ATTACH;FMTTYPE=image/jpeg:https://lakesideyachtclub.com/wp-content/uploads/2019/05/MemorialDay-Party.jpg
END:VEVENT
END:VCALENDAR