BEGIN:VCALENDAR
VERSION:2.0
PRODID:-//Lakeside Yacht Club - ECPv6.15.20//NONSGML v1.0//EN
CALSCALE:GREGORIAN
METHOD:PUBLISH
X-ORIGINAL-URL:https://lakesideyachtclub.com
X-WR-CALDESC:Events for Lakeside Yacht Club
REFRESH-INTERVAL;VALUE=DURATION:PT1H
X-Robots-Tag:noindex
X-PUBLISHED-TTL:PT1H
BEGIN:VTIMEZONE
TZID:America/Halifax
BEGIN:DAYLIGHT
TZOFFSETFROM:-0400
TZOFFSETTO:-0300
TZNAME:ADT
DTSTART:20220313T060000
END:DAYLIGHT
BEGIN:STANDARD
TZOFFSETFROM:-0300
TZOFFSETTO:-0400
TZNAME:AST
DTSTART:20221106T050000
END:STANDARD
BEGIN:DAYLIGHT
TZOFFSETFROM:-0400
TZOFFSETTO:-0300
TZNAME:ADT
DTSTART:20230312T060000
END:DAYLIGHT
BEGIN:STANDARD
TZOFFSETFROM:-0300
TZOFFSETTO:-0400
TZNAME:AST
DTSTART:20231105T050000
END:STANDARD
BEGIN:DAYLIGHT
TZOFFSETFROM:-0400
TZOFFSETTO:-0300
TZNAME:ADT
DTSTART:20240310T060000
END:DAYLIGHT
BEGIN:STANDARD
TZOFFSETFROM:-0300
TZOFFSETTO:-0400
TZNAME:AST
DTSTART:20241103T050000
END:STANDARD
BEGIN:DAYLIGHT
TZOFFSETFROM:-0400
TZOFFSETTO:-0300
TZNAME:ADT
DTSTART:20250309T060000
END:DAYLIGHT
BEGIN:STANDARD
TZOFFSETFROM:-0300
TZOFFSETTO:-0400
TZNAME:AST
DTSTART:20251102T050000
END:STANDARD
BEGIN:DAYLIGHT
TZOFFSETFROM:-0400
TZOFFSETTO:-0300
TZNAME:ADT
DTSTART:20260308T060000
END:DAYLIGHT
BEGIN:STANDARD
TZOFFSETFROM:-0300
TZOFFSETTO:-0400
TZNAME:AST
DTSTART:20261101T050000
END:STANDARD
END:VTIMEZONE
BEGIN:VEVENT
DTSTART;TZID=America/Halifax:20251129T120000
DTEND;TZID=America/Halifax:20251129T143000
DTSTAMP:20260420T084932
CREATED:20171107T213446Z
LAST-MODIFIED:20251002T204040Z
UID:3304-1764417600-1764426600@lakesideyachtclub.com
SUMMARY:Ohio State Vs. Michigan Football Game
DESCRIPTION:Watch the Ohio State Buckeyes take on the Michigan Wolverine’s \n12pm Saturday November 29th at LYC \n$10 1/4lb Chili Dogs\, served with your choice of side. \n $10 Beef and Cheese Nachos \n 
URL:https://lakesideyachtclub.com/event/ohio-state-vs-michigan-football-game/
LOCATION:Lakeside Yacht Club\, Marginal Road\, Cleveland\, OH\, United States
CATEGORIES:Entertainment
ATTACH;FMTTYPE=image/jpeg:https://lakesideyachtclub.com/wp-content/uploads/2017/11/OhioState-V-Michigan.jpg
END:VEVENT
BEGIN:VEVENT
DTSTART;TZID=America/Halifax:20250829T200000
DTEND;TZID=America/Halifax:20250829T230000
DTSTAMP:20260420T084932
CREATED:20250816T015400Z
LAST-MODIFIED:20250820T144353Z
UID:7863-1756497600-1756508400@lakesideyachtclub.com
SUMMARY:Labor Day Weekend Kickoff
DESCRIPTION:Entertainment by Time Trax\nClassic Rock\, Songs from the 80s\, and Great Dance Music
URL:https://lakesideyachtclub.com/event/labor-day-weekend-kickoff/
LOCATION:Lakeside Yacht Club\, Marginal Road\, Cleveland\, OH\, United States
CATEGORIES:Entertainment
ATTACH;FMTTYPE=image/jpeg:https://lakesideyachtclub.com/wp-content/uploads/2023/06/band-on-stage-2.jpg
END:VEVENT
BEGIN:VEVENT
DTSTART;TZID=America/Halifax:20250629T130000
DTEND;TZID=America/Halifax:20250629T160000
DTSTAMP:20260420T084932
CREATED:20240607T231246Z
LAST-MODIFIED:20250606T001809Z
UID:8346-1751202000-1751212800@lakesideyachtclub.com
SUMMARY:Rob Samay Poolside
DESCRIPTION:Relax by the pool\, enjoy the sun\, and listen to the sounds of Rob Samay.
URL:https://lakesideyachtclub.com/event/rob-samay-poolside/
LOCATION:OH
CATEGORIES:Entertainment
ATTACH;FMTTYPE=image/png:https://lakesideyachtclub.com/wp-content/uploads/2013/03/Lift-In-party.png
END:VEVENT
BEGIN:VEVENT
DTSTART;TZID=America/Halifax:20250622T130000
DTEND;TZID=America/Halifax:20250622T160000
DTSTAMP:20260420T084932
CREATED:20230616T142138Z
LAST-MODIFIED:20250606T001708Z
UID:7740-1750597200-1750608000@lakesideyachtclub.com
SUMMARY:DJ Ray Poolside
DESCRIPTION:Enjoy DJ Ray for a musical backdrop to your afternoon at the Club and by the pool.
URL:https://lakesideyachtclub.com/event/dj-ray/
LOCATION:Lakeside Yacht Club\, Marginal Road\, Cleveland\, OH\, United States
CATEGORIES:Entertainment
ATTACH;FMTTYPE=image/jpeg:https://lakesideyachtclub.com/wp-content/uploads/2023/06/dj-party.jpg
END:VEVENT
BEGIN:VEVENT
DTSTART;TZID=America/Halifax:20250615T120000
DTEND;TZID=America/Halifax:20250615T193000
DTSTAMP:20260420T084932
CREATED:20190519T150410Z
LAST-MODIFIED:20250609T010543Z
UID:4829-1749988800-1750015800@lakesideyachtclub.com
SUMMARY:Father's Day Cookout
DESCRIPTION:Join Us at the Father’s Day Cookout\n\nBill Morris Entertaining Poolside    1 – 4 PM  \nMenu\n½ Roasted Chickens $17\nSmoked BBQ Pork Ribs\, available half $22 or Full $30\nJumbo Hot Dogs $13\nBurgers on Kaiser bun $16\nGrilled Chicken Sandwich on a Kaiser bun $16\nBeef Polish Boy $16\nVeggie Burger $16\nShrimp Skewer $16\nSteak Skewers $19\nSide Dishes\nPasta Salad\, Potato Salad\, Corn on the Cob\, BBQ Baked Beans with Bacon\, Watermelon Slices & Assorted Desserts
URL:https://lakesideyachtclub.com/event/fathers-day-cookout/
LOCATION:Lakeside Yacht Club\, Marginal Road\, Cleveland\, OH\, United States
CATEGORIES:Club Activity,Entertainment
ATTACH;FMTTYPE=image/jpeg:https://lakesideyachtclub.com/wp-content/uploads/2019/06/FathersDay-1.jpg
END:VEVENT
BEGIN:VEVENT
DTSTART;TZID=America/Halifax:20250614T183000
DTEND;TZID=America/Halifax:20250614T223000
DTSTAMP:20260420T084932
CREATED:20250606T001332Z
LAST-MODIFIED:20250606T001349Z
UID:8992-1749925800-1749940200@lakesideyachtclub.com
SUMMARY:Entertainment
DESCRIPTION:Time Trax Trio playing your favorite hits.    http://www.timetraxband.com/  
URL:https://lakesideyachtclub.com/event/entertainment/
LOCATION:OH
CATEGORIES:Entertainment
ATTACH;FMTTYPE=image/jpeg:https://lakesideyachtclub.com/wp-content/uploads/2023/06/band-on-stage-2.jpg
END:VEVENT
BEGIN:VEVENT
DTSTART;TZID=America/Halifax:20250608T130000
DTEND;TZID=America/Halifax:20250608T160000
DTSTAMP:20260420T084932
CREATED:20250606T001012Z
LAST-MODIFIED:20250606T001012Z
UID:8990-1749387600-1749398400@lakesideyachtclub.com
SUMMARY:Entertainment Poolside
DESCRIPTION:Join Tom Todd poolside for an enjoyable afternoon.
URL:https://lakesideyachtclub.com/event/entertainment-poolside/
LOCATION:OH
CATEGORIES:Entertainment
ATTACH;FMTTYPE=image/jpeg:https://lakesideyachtclub.com/wp-content/uploads/2016/08/2017-swimmingpool.jpg
END:VEVENT
BEGIN:VEVENT
DTSTART;TZID=America/Halifax:20250607T183000
DTEND;TZID=America/Halifax:20250607T223000
DTSTAMP:20260420T084932
CREATED:20250606T000805Z
LAST-MODIFIED:20250606T000900Z
UID:8987-1749321000-1749335400@lakesideyachtclub.com
SUMMARY:Entertainment- Guitaromony
DESCRIPTION:Enjoy the music and have fun.
URL:https://lakesideyachtclub.com/event/entertainment-guitaromony/
LOCATION:OH
CATEGORIES:Entertainment
END:VEVENT
BEGIN:VEVENT
DTSTART;TZID=America/Halifax:20250503T160000
DTEND;TZID=America/Halifax:20250503T223000
DTSTAMP:20260420T084932
CREATED:20200325T172237Z
LAST-MODIFIED:20250423T142731Z
UID:5553-1746288000-1746311400@lakesideyachtclub.com
SUMMARY:Kentucky Derby Party
DESCRIPTION:Kentucky Derby Party 4pm\n50/50 Raffle and Mint Julip Specials \nKentucky Hot brown sandwich and Bourbon Glazed Fried Chicken specials!\n\n7:30-10:30 pm Caliber Band\n$25 gift certificate for the Best Derby Hat!
URL:https://lakesideyachtclub.com/event/derby-day/
LOCATION:Lakeside Yacht Club\, Marginal Road\, Cleveland\, OH\, United States
CATEGORIES:Entertainment
ATTACH;FMTTYPE=image/jpeg:https://lakesideyachtclub.com/wp-content/uploads/2018/04/kentuckyderby.jpg
END:VEVENT
BEGIN:VEVENT
DTSTART;TZID=America/Halifax:20240901T200000
DTEND;TZID=America/Halifax:20240901T230000
DTSTAMP:20260420T084932
CREATED:20220811T212618Z
LAST-MODIFIED:20240815T133846Z
UID:7043-1725220800-1725231600@lakesideyachtclub.com
SUMMARY:Billy Likes Soda- Entertainment
DESCRIPTION:Billy Likes Soda is Cleveland’s best supergroup cover band if there ever was one. Enjoy a good-time\, good-looking\, atom-splitting\, random eclectic-setlist cover band.
URL:https://lakesideyachtclub.com/event/labor-day/
LOCATION:Lakeside Yacht Club\, Marginal Road\, Cleveland\, OH\, United States
CATEGORIES:Entertainment
END:VEVENT
BEGIN:VEVENT
DTSTART;TZID=America/Halifax:20240831T200000
DTEND;TZID=America/Halifax:20240831T230000
DTSTAMP:20260420T084932
CREATED:20220831T020135Z
LAST-MODIFIED:20240815T133533Z
UID:7061-1725134400-1725145200@lakesideyachtclub.com
SUMMARY:Motor City Gold Entertainment
DESCRIPTION:Enjoy listening and dancing to the sounds of Motor City Gold
URL:https://lakesideyachtclub.com/event/labor-day-wknd-events/
LOCATION:Lakeside Yacht Club\, Marginal Road\, Cleveland\, OH\, United States
CATEGORIES:Entertainment
ATTACH;FMTTYPE=image/jpeg:https://lakesideyachtclub.com/wp-content/uploads/2019/06/2019-LaborDay-onthedeck.jpg
END:VEVENT
BEGIN:VEVENT
DTSTART;TZID=America/Halifax:20240822T180000
DTEND;TZID=America/Halifax:20240822T210000
DTSTAMP:20260420T084932
CREATED:20240801T124658Z
LAST-MODIFIED:20240814T131441Z
UID:8438-1724349600-1724360400@lakesideyachtclub.com
SUMMARY:Live Music & Mojotio Specials
DESCRIPTION:Live music and Mojotio specials on Thursday\, August 22\, 2024\, with a man that is in the Rock-N-Roll Hall of Fame!
URL:https://lakesideyachtclub.com/event/live-music-2/
LOCATION:OH
CATEGORIES:Entertainment
ATTACH;FMTTYPE=image/jpeg:https://lakesideyachtclub.com/wp-content/uploads/2023/06/band-on-stage-2.jpg
END:VEVENT
BEGIN:VEVENT
DTSTART;TZID=America/Halifax:20240809T200000
DTEND;TZID=America/Halifax:20240809T230000
DTSTAMP:20260420T084932
CREATED:20240801T131040Z
LAST-MODIFIED:20240801T131040Z
UID:8448-1723233600-1723244400@lakesideyachtclub.com
SUMMARY:Entertainment Fire on Fire
DESCRIPTION:Enjoy the sounds of Fire on Fire
URL:https://lakesideyachtclub.com/event/entertainment-fire-on-fire/
LOCATION:OH
CATEGORIES:Entertainment
ATTACH;FMTTYPE=image/jpeg:https://lakesideyachtclub.com/wp-content/uploads/2023/06/band-on-stage-2.jpg
END:VEVENT
BEGIN:VEVENT
DTSTART;TZID=America/Halifax:20240803T200000
DTEND;TZID=America/Halifax:20240803T230000
DTSTAMP:20260420T084932
CREATED:20240711T143816Z
LAST-MODIFIED:20240711T143816Z
UID:8402-1722715200-1722726000@lakesideyachtclub.com
SUMMARY:Cheeseburgers in Paradise Band
DESCRIPTION:Join us for the sounds of Jimmy Buffet and other signers when the Cheeseburgers in Paradise band performs at LYC.
URL:https://lakesideyachtclub.com/event/cheeseburgers-in-paradise-band/
LOCATION:OH
CATEGORIES:Entertainment
ATTACH;FMTTYPE=image/jpeg:https://lakesideyachtclub.com/wp-content/uploads/2024/07/cheeseburgersinparadise-band.jpg
END:VEVENT
BEGIN:VEVENT
DTSTART;TZID=America/Halifax:20240729T130000
DTEND;TZID=America/Halifax:20240729T170000
DTSTAMP:20260420T084932
CREATED:20190408T190748Z
LAST-MODIFIED:20240711T143630Z
UID:4730-1722258000-1722272400@lakesideyachtclub.com
SUMMARY:DJ Ray
DESCRIPTION:Party with DJ Ray and enjoy a day in the sun.
URL:https://lakesideyachtclub.com/event/dj-danny/
LOCATION:Lakeside Yacht Club\, Marginal Road\, Cleveland\, OH\, United States
CATEGORIES:Entertainment
END:VEVENT
BEGIN:VEVENT
DTSTART;TZID=America/Halifax:20240727T200000
DTEND;TZID=America/Halifax:20240727T230000
DTSTAMP:20260420T084932
CREATED:20240711T143234Z
LAST-MODIFIED:20240711T143234Z
UID:8398-1722110400-1722121200@lakesideyachtclub.com
SUMMARY:The King Pins Band
DESCRIPTION:The King Pins Band will be playing at the Lakeside Yacht Club.  Popular hits and Caribbean island music too.
URL:https://lakesideyachtclub.com/event/the-king-pins-band/
LOCATION:OH
CATEGORIES:Entertainment
ATTACH;FMTTYPE=image/jpeg:https://lakesideyachtclub.com/wp-content/uploads/2024/07/KingPinsBand.jpg
END:VEVENT
BEGIN:VEVENT
DTSTART;TZID=America/Halifax:20240720T130000
DTEND;TZID=America/Halifax:20240720T170000
DTSTAMP:20260420T084933
CREATED:20240711T141625Z
LAST-MODIFIED:20240711T141839Z
UID:8388-1721480400-1721494800@lakesideyachtclub.com
SUMMARY:Dunk Tank Event to Raise Funds for Breast Cancer Kits
DESCRIPTION:Our last fundraising event for the Breast Cancer Kits is July 20th.  Join us and load up on Ammunition for only $5 per ball. \nYour chance to Dunk Larry Orlowski\, Jamie Bevins\, Chris Hogle\, Mark Garofoli\, and Julie Kubik.  We’re still looking for more volunteers to cool off in the tank and raise funds for a worthy cause.   Sign up with Larry.
URL:https://lakesideyachtclub.com/event/dunk-tank-event-to-raise-funds-for-breast-cancer-kits/
LOCATION:OH
CATEGORIES:Entertainment
ATTACH;FMTTYPE=image/jpeg:https://lakesideyachtclub.com/wp-content/uploads/2024/07/dunktank.jpg
END:VEVENT
BEGIN:VEVENT
DTSTART;TZID=America/Halifax:20240630T130000
DTEND;TZID=America/Halifax:20240630T170000
DTSTAMP:20260420T084933
CREATED:20240607T231729Z
LAST-MODIFIED:20240607T231729Z
UID:8348-1719752400-1719766800@lakesideyachtclub.com
SUMMARY:Entertainment- Take 2
DESCRIPTION:Enjoy the sounds of Take 2 by the pool.
URL:https://lakesideyachtclub.com/event/entertainment-take-2/
LOCATION:OH
CATEGORIES:Entertainment
ATTACH;FMTTYPE=image/jpeg:https://lakesideyachtclub.com/wp-content/uploads/2016/08/2017-swimmingpool.jpg
END:VEVENT
BEGIN:VEVENT
DTSTART;TZID=America/Halifax:20240629T200000
DTEND;TZID=America/Halifax:20240629T230000
DTSTAMP:20260420T084933
CREATED:20230710T133322Z
LAST-MODIFIED:20240607T231409Z
UID:7795-1719691200-1719702000@lakesideyachtclub.com
SUMMARY:Disco Express Band
DESCRIPTION:Bring the whole family down to celebrate. We’ll have a variety of food and beverages\, as well as Disco Express taking the stage at 8 pm on the Lakeside Yacht Club Patio.\n 
URL:https://lakesideyachtclub.com/event/disco-express-band/
LOCATION:Lakeside Yacht Club\, Marginal Road\, Cleveland\, OH\, United States
CATEGORIES:Entertainment
ATTACH;FMTTYPE=image/jpeg:https://lakesideyachtclub.com/wp-content/uploads/2023/07/DiscoExpress.jpg
END:VEVENT
BEGIN:VEVENT
DTSTART;TZID=America/Halifax:20240621T200000
DTEND;TZID=America/Halifax:20240621T230000
DTSTAMP:20260420T084933
CREATED:20240607T231050Z
LAST-MODIFIED:20240607T231050Z
UID:8344-1719000000-1719010800@lakesideyachtclub.com
SUMMARY:Entertainment- Richotet
DESCRIPTION:Enjoy the sounds of Richotet
URL:https://lakesideyachtclub.com/event/entertainment-richotet/
LOCATION:OH
CATEGORIES:Entertainment
ATTACH;FMTTYPE=image/jpeg:https://lakesideyachtclub.com/wp-content/uploads/2023/06/band-on-stage-2.jpg
END:VEVENT
BEGIN:VEVENT
DTSTART;TZID=America/Halifax:20240616T130000
DTEND;TZID=America/Halifax:20240616T160000
DTSTAMP:20260420T084933
CREATED:20230626T195057Z
LAST-MODIFIED:20240607T230754Z
UID:7768-1718542800-1718553600@lakesideyachtclub.com
SUMMARY:Entertainment -Joey Amato Band
DESCRIPTION:The Joey Amato Band will entertain members and guests
URL:https://lakesideyachtclub.com/event/entertainment-tony-amato/
LOCATION:Lakeside Yacht Club\, Marginal Road\, Cleveland\, OH\, United States
CATEGORIES:Entertainment
ATTACH;FMTTYPE=image/jpeg:https://lakesideyachtclub.com/wp-content/uploads/2023/06/band-on-stage-2.jpg
END:VEVENT
BEGIN:VEVENT
DTSTART;TZID=America/Halifax:20240609T130000
DTEND;TZID=America/Halifax:20240609T170000
DTSTAMP:20260420T084933
CREATED:20240607T230345Z
LAST-MODIFIED:20240607T230345Z
UID:8338-1717938000-1717952400@lakesideyachtclub.com
SUMMARY:Dueling Dames
DESCRIPTION:It’s summertime and the Dueling Piano Dames have their nautical and tropical tunes ready for all you sailors! Get your requests ready and let’s enjoy the beautiful lakefront on the shores of Lake Erie.
URL:https://lakesideyachtclub.com/event/dueling-dames/
LOCATION:OH
CATEGORIES:Entertainment
ATTACH;FMTTYPE=image/jpeg:https://lakesideyachtclub.com/wp-content/uploads/2023/06/band-on-stage-2.jpg
END:VEVENT
BEGIN:VEVENT
DTSTART;TZID=America/Halifax:20240608T200000
DTEND;TZID=America/Halifax:20240608T230000
DTSTAMP:20260420T084933
CREATED:20230812T210045Z
LAST-MODIFIED:20240607T230056Z
UID:7844-1717876800-1717887600@lakesideyachtclub.com
SUMMARY:Almost Famous Band
DESCRIPTION:Join us for some great sounds of the 80s with the Almost Famous Band.
URL:https://lakesideyachtclub.com/event/almost-famous-band/
LOCATION:Lakeside Yacht Club\, Marginal Road\, Cleveland\, OH\, United States
CATEGORIES:Entertainment
ATTACH;FMTTYPE=image/jpeg:https://lakesideyachtclub.com/wp-content/uploads/2023/06/band-on-stage-2.jpg
END:VEVENT
BEGIN:VEVENT
DTSTART;TZID=America/Halifax:20230826T200000
DTEND;TZID=America/Halifax:20230826T230000
DTSTAMP:20260420T084933
CREATED:20230626T200542Z
LAST-MODIFIED:20230626T200542Z
UID:7777-1693080000-1693090800@lakesideyachtclub.com
SUMMARY:Gary Coleman Entertainment
DESCRIPTION:
URL:https://lakesideyachtclub.com/event/gary-coleman-entertainment/
LOCATION:Lakeside Yacht Club\, Marginal Road\, Cleveland\, OH\, United States
CATEGORIES:Entertainment
ATTACH;FMTTYPE=image/jpeg:https://lakesideyachtclub.com/wp-content/uploads/2023/06/band-on-stage-2.jpg
END:VEVENT
BEGIN:VEVENT
DTSTART;TZID=America/Halifax:20230820T130000
DTEND;TZID=America/Halifax:20230820T160000
DTSTAMP:20260420T084933
CREATED:20230626T200219Z
LAST-MODIFIED:20230626T200219Z
UID:7775-1692536400-1692547200@lakesideyachtclub.com
SUMMARY:DJ Michelle
DESCRIPTION:Spinning your favorite hits.
URL:https://lakesideyachtclub.com/event/dj-michelle/
LOCATION:Lakeside Yacht Club\, Marginal Road\, Cleveland\, OH\, United States
CATEGORIES:Entertainment
ATTACH;FMTTYPE=image/jpeg:https://lakesideyachtclub.com/wp-content/uploads/2023/06/disc-jockey-and-audience-2.jpg
END:VEVENT
BEGIN:VEVENT
DTSTART;TZID=America/Halifax:20230819T200000
DTEND;TZID=America/Halifax:20230819T230000
DTSTAMP:20260420T084933
CREATED:20220604T141003Z
LAST-MODIFIED:20230626T195937Z
UID:6892-1692475200-1692486000@lakesideyachtclub.com
SUMMARY:Eastwind Band
DESCRIPTION:AUTHENTIC CLASSIC ROCK FEATURING THE MUSIC OF THE DOOBIE BROTHERS\, BEATLES\, DAVID BOWIE\, EAGLES\, GRAND FUNK RAILROAD & MORE
URL:https://lakesideyachtclub.com/event/eastwind-band/
LOCATION:Lakeside Yacht Club\, 4851 Marginal Road\, Cleveland\, OH\, United States
CATEGORIES:Entertainment
ATTACH;FMTTYPE=image/jpeg:https://lakesideyachtclub.com/wp-content/uploads/2022/06/west-wind-charlie-band.jpg
END:VEVENT
BEGIN:VEVENT
DTSTART;TZID=America/Halifax:20230806T130000
DTEND;TZID=America/Halifax:20230806T160000
DTSTAMP:20260420T084933
CREATED:20230626T194716Z
LAST-MODIFIED:20230626T194716Z
UID:7765-1691326800-1691337600@lakesideyachtclub.com
SUMMARY:D J Larry
DESCRIPTION:DJ Larry by the pool
URL:https://lakesideyachtclub.com/event/d-j-larry/
LOCATION:OH
CATEGORIES:Entertainment
ATTACH;FMTTYPE=image/jpeg:https://lakesideyachtclub.com/wp-content/uploads/2023/06/disc-jockey-and-audience-2.jpg
END:VEVENT
BEGIN:VEVENT
DTSTART;TZID=America/Halifax:20230805T200000
DTEND;TZID=America/Halifax:20230805T230000
DTSTAMP:20260420T084933
CREATED:20230626T194305Z
LAST-MODIFIED:20230626T194305Z
UID:7762-1691265600-1691276400@lakesideyachtclub.com
SUMMARY:BuckShot Country Band
DESCRIPTION:Enjoy the music from the Buckshot “Country Band.”
URL:https://lakesideyachtclub.com/event/buckshot-country-band/
LOCATION:Lakeside Yacht Club\, Marginal Road\, Cleveland\, OH\, United States
CATEGORIES:Entertainment
ATTACH;FMTTYPE=image/jpeg:https://lakesideyachtclub.com/wp-content/uploads/2023/06/band-on-stage-2.jpg
END:VEVENT
BEGIN:VEVENT
DTSTART;TZID=America/Halifax:20230721T200000
DTEND;TZID=America/Halifax:20230721T233000
DTSTAMP:20260420T084933
CREATED:20230616T143012Z
LAST-MODIFIED:20230616T143012Z
UID:7747-1689969600-1689982200@lakesideyachtclub.com
SUMMARY:Fireside Band Entertainment
DESCRIPTION:Details coming soon.
URL:https://lakesideyachtclub.com/event/fireside-band-entertainment/
LOCATION:Lakeside Yacht Club\, Marginal Road\, Cleveland\, OH\, United States
CATEGORIES:Entertainment
END:VEVENT
BEGIN:VEVENT
DTSTART;TZID=America/Halifax:20230708T200000
DTEND;TZID=America/Halifax:20230708T230000
DTSTAMP:20260420T084933
CREATED:20230616T141947Z
LAST-MODIFIED:20230616T141947Z
UID:7738-1688846400-1688857200@lakesideyachtclub.com
SUMMARY:Tarp Band Entertainment
DESCRIPTION:Enjoy the sounds of the Tarp Band
URL:https://lakesideyachtclub.com/event/tarp-band-entertainment/
LOCATION:Lakeside Yacht Club\, Marginal Road\, Cleveland\, OH\, United States
CATEGORIES:Entertainment
END:VEVENT
END:VCALENDAR