BEGIN:VCALENDAR
VERSION:2.0
PRODID:-//Lakeside Yacht Club - ECPv6.15.20//NONSGML v1.0//EN
CALSCALE:GREGORIAN
METHOD:PUBLISH
X-WR-CALNAME:Lakeside Yacht Club
X-ORIGINAL-URL:https://lakesideyachtclub.com
X-WR-CALDESC:Events for Lakeside Yacht Club
REFRESH-INTERVAL;VALUE=DURATION:PT1H
X-Robots-Tag:noindex
X-PUBLISHED-TTL:PT1H
BEGIN:VTIMEZONE
TZID:America/Halifax
BEGIN:DAYLIGHT
TZOFFSETFROM:-0400
TZOFFSETTO:-0300
TZNAME:ADT
DTSTART:20240310T060000
END:DAYLIGHT
BEGIN:STANDARD
TZOFFSETFROM:-0300
TZOFFSETTO:-0400
TZNAME:AST
DTSTART:20241103T050000
END:STANDARD
BEGIN:DAYLIGHT
TZOFFSETFROM:-0400
TZOFFSETTO:-0300
TZNAME:ADT
DTSTART:20250309T060000
END:DAYLIGHT
BEGIN:STANDARD
TZOFFSETFROM:-0300
TZOFFSETTO:-0400
TZNAME:AST
DTSTART:20251102T050000
END:STANDARD
BEGIN:DAYLIGHT
TZOFFSETFROM:-0400
TZOFFSETTO:-0300
TZNAME:ADT
DTSTART:20260308T060000
END:DAYLIGHT
BEGIN:STANDARD
TZOFFSETFROM:-0300
TZOFFSETTO:-0400
TZNAME:AST
DTSTART:20261101T050000
END:STANDARD
END:VTIMEZONE
BEGIN:VEVENT
DTSTART;TZID=America/Halifax:20250816T120000
DTEND;TZID=America/Halifax:20250816T143000
DTSTAMP:20260420T171924
CREATED:20220710T133045Z
LAST-MODIFIED:20250816T140431Z
UID:6977-1755345600-1755354600@lakesideyachtclub.com
SUMMARY:4th Annual Dinghy & Jet Ski Poker Run
DESCRIPTION:Please join us on Saturday\, August 16\, 2025\, at 12 pm. \nLakeside Yacht Club’s 4th ever poker run! \nThere will be four stops\, the number of participants on either the Dinghy\, Jet Boat\, or any other boat up to 100ft or Jet Ski doesn’t matter. An entry fee of $25 per vessel\, extra hands can be purchased in advance at $25 per-hand. All entries and extra hands must be registered and purchased by August 20th. All proceeds will go to the winning hand. \nMore details to follow!  \n 
URL:https://lakesideyachtclub.com/event/dingy-jet-ski-poker-run/
LOCATION:Lakeside Yacht Club\, Marginal Road\, Cleveland\, OH\, United States
CATEGORIES:Club Activity
ATTACH;FMTTYPE=image/jpeg:https://lakesideyachtclub.com/wp-content/uploads/2022/07/misrata_09_06_01.jpg
END:VEVENT
BEGIN:VEVENT
DTSTART;TZID=America/Halifax:20250823T130000
DTEND;TZID=America/Halifax:20250823T160000
DTSTAMP:20260420T171924
CREATED:20220930T015110Z
LAST-MODIFIED:20250820T144145Z
UID:7115-1755954000-1755964800@lakesideyachtclub.com
SUMMARY:Browns Vs. Chargers Game Specials- 8-23
DESCRIPTION:LYC’s Big Pretzel $13\nA fresh-baked Bavarian pretzel lightly salted\, served with a side of honey mustard and Cheese sauce.\n1/4lb Chili Dog $10\n1/4 pound chili dog topped with cheese and onions. Served with your choice of side.\n Come down to LYC and watch the Browns beat the Los Angeles Chargers.
URL:https://lakesideyachtclub.com/event/browns-game-specials/
LOCATION:Lakeside Yacht Club\, Marginal Road\, Cleveland\, OH\, United States
CATEGORIES:Club Activity
ATTACH;FMTTYPE=image/jpeg:https://lakesideyachtclub.com/wp-content/uploads/2019/09/Cleveland_Browns.jpg
END:VEVENT
BEGIN:VEVENT
DTSTART;TZID=America/Halifax:20250830T080000
DTEND;TZID=America/Halifax:20250830T230000
DTSTAMP:20260420T171924
CREATED:20220831T020456Z
LAST-MODIFIED:20250829T134145Z
UID:7065-1756540800-1756594800@lakesideyachtclub.com
SUMMARY:Labor Day Weekend Saturday Cookouts
DESCRIPTION:View Schedule for Sunday\, August 31\nView Schedule for Monday\, September 1\n————————————————————————————– \nBreakfast Buffet 8:00 am – 11:30 am  \nCookout 12:00 pm – 4:30 pm \nBand: Caliber 8:00 pm – 11:00 pm \nBreakfast Buffet $13.00 \nSausage\nBacon\nBreakfast Potatoes\nScrambled Eggs\nBelgian Waffles\nBagels\nDanish\nMini Muffins\nFresh Fruit\nOmelet Station\n(Cheddar cheese\, mushrooms\, tomatoes\, onions\, peppers & diced ham) \n  \nLabor Day Weekend Cookout \n½ Roasted Chickens $17.00\nSmoked BBQ Pork Ribs\, available half $22.00 or Full $30.00\nJumbo Hot Dogs $13.00\nBurgers on Kaiser bun $16.00\nGrilled Chicken Sandwich on Kaiser bun $16.00\nVeggie Burger $16.00\nShrimp Skewer $19.00\nBeef Tenderloin Skewer $19.00 \n Side Dishes\nPasta Salad\, Potato Salad\, Corn on the Cob\, Loaded BBQ Baked Beans\, Watermelon Slices & Assorted Desserts
URL:https://lakesideyachtclub.com/event/labor-day-events-2/
LOCATION:Lakeside Yacht Club\, Marginal Road\, Cleveland\, OH\, United States
CATEGORIES:Club Activity
ATTACH;FMTTYPE=image/jpeg:https://lakesideyachtclub.com/wp-content/uploads/2019/06/2019-LaborDay-onthedeck.jpg
END:VEVENT
BEGIN:VEVENT
DTSTART;TZID=America/Halifax:20250831T080000
DTEND;TZID=America/Halifax:20250831T230000
DTSTAMP:20260420T171924
CREATED:20250820T144959Z
LAST-MODIFIED:20250829T133251Z
UID:9110-1756627200-1756681200@lakesideyachtclub.com
SUMMARY:Labor Day Weekend Sunday
DESCRIPTION:View Schedule for Monday\, September 1\n————————————————————————————– \nBreakfast Buffet 8:00 am – 11:30 am  \nCookout 12:00 pm – 4:30 pm \nBand: Almost Famous Band 8:00 pm – 11:00 pm \nBreakfast Buffet $13.00 \nSausage\nBacon\nBreakfast Potatoes\nScrambled Eggs\nBelgian Waffles\nBagels\nDanish\nMini Muffins\nFresh Fruit\nOmelet Station\n(Cheddar cheese\, mushrooms\, tomatoes\, onions\, peppers & diced ham) \n Labor Day Weekend Cookout \n½ Roasted Chickens $17.00\nSmoked BBQ Pork Ribs\, available half $22.00 or Full $30.00\nJumbo Hot Dogs $13.00\nBurgers on Kaiser bun $16.00\nGrilled Chicken Sandwich on Kaiser bun $16.00\nVeggie Burger $16.00\nShrimp Skewer $19.00\nBeef Tenderloin Skewer $19.00 \n Side Dishes\nPasta Salad\, Potato Salad\, Corn on the Cob\, Loaded BBQ Baked Beans\, Watermelon Slices & Assorted Des
URL:https://lakesideyachtclub.com/event/labor-day-events-3/
CATEGORIES:Club Activity
ATTACH;FMTTYPE=image/jpeg:https://lakesideyachtclub.com/wp-content/uploads/2023/08/LaborDayCelebration.jpg
END:VEVENT
END:VCALENDAR